BEGIN:VCALENDAR
VERSION:2.0
PRODID:-//Mission Accomplished - ECPv6.15.20//NONSGML v1.0//EN
CALSCALE:GREGORIAN
METHOD:PUBLISH
X-WR-CALNAME:Mission Accomplished
X-ORIGINAL-URL:https://mission-accomplished.org
X-WR-CALDESC:Events for Mission Accomplished
REFRESH-INTERVAL;VALUE=DURATION:PT1H
X-Robots-Tag:noindex
X-PUBLISHED-TTL:PT1H
BEGIN:VTIMEZONE
TZID:UTC
BEGIN:STANDARD
TZOFFSETFROM:+0000
TZOFFSETTO:+0000
TZNAME:UTC
DTSTART:20230101T000000
END:STANDARD
END:VTIMEZONE
BEGIN:VEVENT
DTSTART;TZID=UTC:20241231T090000
DTEND;TZID=UTC:20241231T120000
DTSTAMP:20260422T223746
CREATED:20240120T193349Z
LAST-MODIFIED:20240120T194733Z
UID:10005561-1735635600-1735646400@mission-accomplished.org
SUMMARY:Violet Keepsafe Storage
DESCRIPTION:
URL:https://mission-accomplished.org/event/violet-keepsafe-storage/2024-12-31/
LOCATION:Violet Keepsafe Storage\, 700 E 7th St\, Austin\, 78701\, United States
CATEGORIES:Operation Clean Clothes
ATTACH;FMTTYPE=image/png:https://mission-accomplished.org/wp-content/uploads/2023/12/2.png
END:VEVENT
BEGIN:VEVENT
DTSTART;TZID=UTC:20241230T090000
DTEND;TZID=UTC:20241230T120000
DTSTAMP:20260422T223746
CREATED:20240120T193046Z
LAST-MODIFIED:20240120T194806Z
UID:10005299-1735549200-1735560000@mission-accomplished.org
SUMMARY:Sunrise Homeless Navigation Center
DESCRIPTION:
URL:https://mission-accomplished.org/event/sunrise-homeless-navigation-center/2024-12-30/
LOCATION:Sunrise Homeless Navigation Center\, 4430 Menchaca Rd\, Austin\, 78745\, United States
CATEGORIES:Operation Clean Clothes
ATTACH;FMTTYPE=image/png:https://mission-accomplished.org/wp-content/uploads/2023/12/1.png
END:VEVENT
BEGIN:VEVENT
DTSTART;TZID=UTC:20241228T090000
DTEND;TZID=UTC:20241228T133000
DTSTAMP:20260422T223746
CREATED:20240120T193901Z
LAST-MODIFIED:20240120T194811Z
UID:10005714-1735376400-1735392600@mission-accomplished.org
SUMMARY:(TOOF) The Other Ones Foundation
DESCRIPTION:
URL:https://mission-accomplished.org/event/toof-the-other-ones-foundation/2024-12-28/
LOCATION:The Other Ones Foundation (TOOF)\, 780 S Hwy 183\, Austin\, 78741\, United States
CATEGORIES:Operation Clean Clothes
ATTACH;FMTTYPE=image/png:https://mission-accomplished.org/wp-content/uploads/2023/12/4.png
END:VEVENT
BEGIN:VEVENT
DTSTART;TZID=UTC:20241227T090000
DTEND;TZID=UTC:20241227T133000
DTSTAMP:20260422T223746
CREATED:20240120T193901Z
LAST-MODIFIED:20240120T194811Z
UID:10005713-1735290000-1735306200@mission-accomplished.org
SUMMARY:(TOOF) The Other Ones Foundation
DESCRIPTION:
URL:https://mission-accomplished.org/event/toof-the-other-ones-foundation/2024-12-27/
LOCATION:The Other Ones Foundation (TOOF)\, 780 S Hwy 183\, Austin\, 78741\, United States
CATEGORIES:Operation Clean Clothes
ATTACH;FMTTYPE=image/png:https://mission-accomplished.org/wp-content/uploads/2023/12/4.png
END:VEVENT
BEGIN:VEVENT
DTSTART;TZID=UTC:20241225T090000
DTEND;TZID=UTC:20241225T133000
DTSTAMP:20260422T223746
CREATED:20240120T193901Z
LAST-MODIFIED:20240120T194811Z
UID:10005712-1735117200-1735133400@mission-accomplished.org
SUMMARY:(TOOF) The Other Ones Foundation
DESCRIPTION:
URL:https://mission-accomplished.org/event/toof-the-other-ones-foundation/2024-12-25/
LOCATION:The Other Ones Foundation (TOOF)\, 780 S Hwy 183\, Austin\, 78741\, United States
CATEGORIES:Operation Clean Clothes
ATTACH;FMTTYPE=image/png:https://mission-accomplished.org/wp-content/uploads/2023/12/4.png
END:VEVENT
BEGIN:VEVENT
DTSTART;TZID=UTC:20241224T090000
DTEND;TZID=UTC:20241224T120000
DTSTAMP:20260422T223746
CREATED:20240120T193349Z
LAST-MODIFIED:20240120T194733Z
UID:10005560-1735030800-1735041600@mission-accomplished.org
SUMMARY:Violet Keepsafe Storage
DESCRIPTION:
URL:https://mission-accomplished.org/event/violet-keepsafe-storage/2024-12-24/
LOCATION:Violet Keepsafe Storage\, 700 E 7th St\, Austin\, 78701\, United States
CATEGORIES:Operation Clean Clothes
ATTACH;FMTTYPE=image/png:https://mission-accomplished.org/wp-content/uploads/2023/12/2.png
END:VEVENT
BEGIN:VEVENT
DTSTART;TZID=UTC:20241223T090000
DTEND;TZID=UTC:20241223T120000
DTSTAMP:20260422T223746
CREATED:20240120T193046Z
LAST-MODIFIED:20240120T194806Z
UID:10005298-1734944400-1734955200@mission-accomplished.org
SUMMARY:Sunrise Homeless Navigation Center
DESCRIPTION:
URL:https://mission-accomplished.org/event/sunrise-homeless-navigation-center/2024-12-23/
LOCATION:Sunrise Homeless Navigation Center\, 4430 Menchaca Rd\, Austin\, 78745\, United States
CATEGORIES:Operation Clean Clothes
ATTACH;FMTTYPE=image/png:https://mission-accomplished.org/wp-content/uploads/2023/12/1.png
END:VEVENT
BEGIN:VEVENT
DTSTART;TZID=UTC:20241221T090000
DTEND;TZID=UTC:20241221T133000
DTSTAMP:20260422T223746
CREATED:20240120T193901Z
LAST-MODIFIED:20240120T194811Z
UID:10005711-1734771600-1734787800@mission-accomplished.org
SUMMARY:(TOOF) The Other Ones Foundation
DESCRIPTION:
URL:https://mission-accomplished.org/event/toof-the-other-ones-foundation/2024-12-21/
LOCATION:The Other Ones Foundation (TOOF)\, 780 S Hwy 183\, Austin\, 78741\, United States
CATEGORIES:Operation Clean Clothes
ATTACH;FMTTYPE=image/png:https://mission-accomplished.org/wp-content/uploads/2023/12/4.png
END:VEVENT
BEGIN:VEVENT
DTSTART;TZID=UTC:20241220T090000
DTEND;TZID=UTC:20241220T133000
DTSTAMP:20260422T223746
CREATED:20240120T193901Z
LAST-MODIFIED:20240120T194811Z
UID:10005710-1734685200-1734701400@mission-accomplished.org
SUMMARY:(TOOF) The Other Ones Foundation
DESCRIPTION:
URL:https://mission-accomplished.org/event/toof-the-other-ones-foundation/2024-12-20/
LOCATION:The Other Ones Foundation (TOOF)\, 780 S Hwy 183\, Austin\, 78741\, United States
CATEGORIES:Operation Clean Clothes
ATTACH;FMTTYPE=image/png:https://mission-accomplished.org/wp-content/uploads/2023/12/4.png
END:VEVENT
BEGIN:VEVENT
DTSTART;TZID=UTC:20241218T090000
DTEND;TZID=UTC:20241218T133000
DTSTAMP:20260422T223746
CREATED:20240120T193901Z
LAST-MODIFIED:20240120T194811Z
UID:10005709-1734512400-1734528600@mission-accomplished.org
SUMMARY:(TOOF) The Other Ones Foundation
DESCRIPTION:
URL:https://mission-accomplished.org/event/toof-the-other-ones-foundation/2024-12-18/
LOCATION:The Other Ones Foundation (TOOF)\, 780 S Hwy 183\, Austin\, 78741\, United States
CATEGORIES:Operation Clean Clothes
ATTACH;FMTTYPE=image/png:https://mission-accomplished.org/wp-content/uploads/2023/12/4.png
END:VEVENT
BEGIN:VEVENT
DTSTART;TZID=UTC:20241217T090000
DTEND;TZID=UTC:20241217T120000
DTSTAMP:20260422T223746
CREATED:20240120T193349Z
LAST-MODIFIED:20240120T194733Z
UID:10005559-1734426000-1734436800@mission-accomplished.org
SUMMARY:Violet Keepsafe Storage
DESCRIPTION:
URL:https://mission-accomplished.org/event/violet-keepsafe-storage/2024-12-17/
LOCATION:Violet Keepsafe Storage\, 700 E 7th St\, Austin\, 78701\, United States
CATEGORIES:Operation Clean Clothes
ATTACH;FMTTYPE=image/png:https://mission-accomplished.org/wp-content/uploads/2023/12/2.png
END:VEVENT
BEGIN:VEVENT
DTSTART;TZID=UTC:20241216T090000
DTEND;TZID=UTC:20241216T120000
DTSTAMP:20260422T223746
CREATED:20240120T193046Z
LAST-MODIFIED:20240120T194806Z
UID:10005297-1734339600-1734350400@mission-accomplished.org
SUMMARY:Sunrise Homeless Navigation Center
DESCRIPTION:
URL:https://mission-accomplished.org/event/sunrise-homeless-navigation-center/2024-12-16/
LOCATION:Sunrise Homeless Navigation Center\, 4430 Menchaca Rd\, Austin\, 78745\, United States
CATEGORIES:Operation Clean Clothes
ATTACH;FMTTYPE=image/png:https://mission-accomplished.org/wp-content/uploads/2023/12/1.png
END:VEVENT
BEGIN:VEVENT
DTSTART;TZID=UTC:20241214T090000
DTEND;TZID=UTC:20241214T133000
DTSTAMP:20260422T223746
CREATED:20240120T193901Z
LAST-MODIFIED:20240120T194811Z
UID:10005708-1734166800-1734183000@mission-accomplished.org
SUMMARY:(TOOF) The Other Ones Foundation
DESCRIPTION:
URL:https://mission-accomplished.org/event/toof-the-other-ones-foundation/2024-12-14/
LOCATION:The Other Ones Foundation (TOOF)\, 780 S Hwy 183\, Austin\, 78741\, United States
CATEGORIES:Operation Clean Clothes
ATTACH;FMTTYPE=image/png:https://mission-accomplished.org/wp-content/uploads/2023/12/4.png
END:VEVENT
BEGIN:VEVENT
DTSTART;TZID=UTC:20241213T090000
DTEND;TZID=UTC:20241213T133000
DTSTAMP:20260422T223746
CREATED:20240120T193901Z
LAST-MODIFIED:20240120T194811Z
UID:10005707-1734080400-1734096600@mission-accomplished.org
SUMMARY:(TOOF) The Other Ones Foundation
DESCRIPTION:
URL:https://mission-accomplished.org/event/toof-the-other-ones-foundation/2024-12-13/
LOCATION:The Other Ones Foundation (TOOF)\, 780 S Hwy 183\, Austin\, 78741\, United States
CATEGORIES:Operation Clean Clothes
ATTACH;FMTTYPE=image/png:https://mission-accomplished.org/wp-content/uploads/2023/12/4.png
END:VEVENT
BEGIN:VEVENT
DTSTART;TZID=UTC:20241211T090000
DTEND;TZID=UTC:20241211T133000
DTSTAMP:20260422T223746
CREATED:20240120T193901Z
LAST-MODIFIED:20240120T194811Z
UID:10005706-1733907600-1733923800@mission-accomplished.org
SUMMARY:(TOOF) The Other Ones Foundation
DESCRIPTION:
URL:https://mission-accomplished.org/event/toof-the-other-ones-foundation/2024-12-11/
LOCATION:The Other Ones Foundation (TOOF)\, 780 S Hwy 183\, Austin\, 78741\, United States
CATEGORIES:Operation Clean Clothes
ATTACH;FMTTYPE=image/png:https://mission-accomplished.org/wp-content/uploads/2023/12/4.png
END:VEVENT
BEGIN:VEVENT
DTSTART;TZID=UTC:20241210T090000
DTEND;TZID=UTC:20241210T120000
DTSTAMP:20260422T223746
CREATED:20240120T193349Z
LAST-MODIFIED:20240120T194733Z
UID:10005558-1733821200-1733832000@mission-accomplished.org
SUMMARY:Violet Keepsafe Storage
DESCRIPTION:
URL:https://mission-accomplished.org/event/violet-keepsafe-storage/2024-12-10/
LOCATION:Violet Keepsafe Storage\, 700 E 7th St\, Austin\, 78701\, United States
CATEGORIES:Operation Clean Clothes
ATTACH;FMTTYPE=image/png:https://mission-accomplished.org/wp-content/uploads/2023/12/2.png
END:VEVENT
BEGIN:VEVENT
DTSTART;TZID=UTC:20241209T090000
DTEND;TZID=UTC:20241209T120000
DTSTAMP:20260422T223746
CREATED:20240120T193046Z
LAST-MODIFIED:20240120T194806Z
UID:10005296-1733734800-1733745600@mission-accomplished.org
SUMMARY:Sunrise Homeless Navigation Center
DESCRIPTION:
URL:https://mission-accomplished.org/event/sunrise-homeless-navigation-center/2024-12-09/
LOCATION:Sunrise Homeless Navigation Center\, 4430 Menchaca Rd\, Austin\, 78745\, United States
CATEGORIES:Operation Clean Clothes
ATTACH;FMTTYPE=image/png:https://mission-accomplished.org/wp-content/uploads/2023/12/1.png
END:VEVENT
BEGIN:VEVENT
DTSTART;TZID=UTC:20241207T090000
DTEND;TZID=UTC:20241207T133000
DTSTAMP:20260422T223746
CREATED:20240120T193901Z
LAST-MODIFIED:20240120T194811Z
UID:10005705-1733562000-1733578200@mission-accomplished.org
SUMMARY:(TOOF) The Other Ones Foundation
DESCRIPTION:
URL:https://mission-accomplished.org/event/toof-the-other-ones-foundation/2024-12-07/
LOCATION:The Other Ones Foundation (TOOF)\, 780 S Hwy 183\, Austin\, 78741\, United States
CATEGORIES:Operation Clean Clothes
ATTACH;FMTTYPE=image/png:https://mission-accomplished.org/wp-content/uploads/2023/12/4.png
END:VEVENT
BEGIN:VEVENT
DTSTART;TZID=UTC:20241206T090000
DTEND;TZID=UTC:20241206T133000
DTSTAMP:20260422T223746
CREATED:20240120T193901Z
LAST-MODIFIED:20240120T194811Z
UID:10005704-1733475600-1733491800@mission-accomplished.org
SUMMARY:(TOOF) The Other Ones Foundation
DESCRIPTION:
URL:https://mission-accomplished.org/event/toof-the-other-ones-foundation/2024-12-06/
LOCATION:The Other Ones Foundation (TOOF)\, 780 S Hwy 183\, Austin\, 78741\, United States
CATEGORIES:Operation Clean Clothes
ATTACH;FMTTYPE=image/png:https://mission-accomplished.org/wp-content/uploads/2023/12/4.png
END:VEVENT
BEGIN:VEVENT
DTSTART;TZID=UTC:20241204T090000
DTEND;TZID=UTC:20241204T133000
DTSTAMP:20260422T223746
CREATED:20240120T193901Z
LAST-MODIFIED:20240120T194811Z
UID:10005703-1733302800-1733319000@mission-accomplished.org
SUMMARY:(TOOF) The Other Ones Foundation
DESCRIPTION:
URL:https://mission-accomplished.org/event/toof-the-other-ones-foundation/2024-12-04/
LOCATION:The Other Ones Foundation (TOOF)\, 780 S Hwy 183\, Austin\, 78741\, United States
CATEGORIES:Operation Clean Clothes
ATTACH;FMTTYPE=image/png:https://mission-accomplished.org/wp-content/uploads/2023/12/4.png
END:VEVENT
BEGIN:VEVENT
DTSTART;TZID=UTC:20241203T090000
DTEND;TZID=UTC:20241203T120000
DTSTAMP:20260422T223746
CREATED:20240120T193349Z
LAST-MODIFIED:20240120T194733Z
UID:10005557-1733216400-1733227200@mission-accomplished.org
SUMMARY:Violet Keepsafe Storage
DESCRIPTION:
URL:https://mission-accomplished.org/event/violet-keepsafe-storage/2024-12-03/
LOCATION:Violet Keepsafe Storage\, 700 E 7th St\, Austin\, 78701\, United States
CATEGORIES:Operation Clean Clothes
ATTACH;FMTTYPE=image/png:https://mission-accomplished.org/wp-content/uploads/2023/12/2.png
END:VEVENT
BEGIN:VEVENT
DTSTART;TZID=UTC:20241202T090000
DTEND;TZID=UTC:20241202T120000
DTSTAMP:20260422T223746
CREATED:20240120T193046Z
LAST-MODIFIED:20240120T194806Z
UID:10005295-1733130000-1733140800@mission-accomplished.org
SUMMARY:Sunrise Homeless Navigation Center
DESCRIPTION:
URL:https://mission-accomplished.org/event/sunrise-homeless-navigation-center/2024-12-02/
LOCATION:Sunrise Homeless Navigation Center\, 4430 Menchaca Rd\, Austin\, 78745\, United States
CATEGORIES:Operation Clean Clothes
ATTACH;FMTTYPE=image/png:https://mission-accomplished.org/wp-content/uploads/2023/12/1.png
END:VEVENT
BEGIN:VEVENT
DTSTART;TZID=UTC:20241130T090000
DTEND;TZID=UTC:20241130T133000
DTSTAMP:20260422T223746
CREATED:20240120T193901Z
LAST-MODIFIED:20240120T194811Z
UID:10005702-1732957200-1732973400@mission-accomplished.org
SUMMARY:(TOOF) The Other Ones Foundation
DESCRIPTION:
URL:https://mission-accomplished.org/event/toof-the-other-ones-foundation/2024-11-30/
LOCATION:The Other Ones Foundation (TOOF)\, 780 S Hwy 183\, Austin\, 78741\, United States
CATEGORIES:Operation Clean Clothes
ATTACH;FMTTYPE=image/png:https://mission-accomplished.org/wp-content/uploads/2023/12/4.png
END:VEVENT
BEGIN:VEVENT
DTSTART;TZID=UTC:20241129T090000
DTEND;TZID=UTC:20241129T133000
DTSTAMP:20260422T223746
CREATED:20240120T193901Z
LAST-MODIFIED:20240120T194811Z
UID:10005701-1732870800-1732887000@mission-accomplished.org
SUMMARY:(TOOF) The Other Ones Foundation
DESCRIPTION:
URL:https://mission-accomplished.org/event/toof-the-other-ones-foundation/2024-11-29/
LOCATION:The Other Ones Foundation (TOOF)\, 780 S Hwy 183\, Austin\, 78741\, United States
CATEGORIES:Operation Clean Clothes
ATTACH;FMTTYPE=image/png:https://mission-accomplished.org/wp-content/uploads/2023/12/4.png
END:VEVENT
BEGIN:VEVENT
DTSTART;TZID=UTC:20241127T090000
DTEND;TZID=UTC:20241127T133000
DTSTAMP:20260422T223746
CREATED:20240120T193901Z
LAST-MODIFIED:20240120T194811Z
UID:10005700-1732698000-1732714200@mission-accomplished.org
SUMMARY:(TOOF) The Other Ones Foundation
DESCRIPTION:
URL:https://mission-accomplished.org/event/toof-the-other-ones-foundation/2024-11-27/
LOCATION:The Other Ones Foundation (TOOF)\, 780 S Hwy 183\, Austin\, 78741\, United States
CATEGORIES:Operation Clean Clothes
ATTACH;FMTTYPE=image/png:https://mission-accomplished.org/wp-content/uploads/2023/12/4.png
END:VEVENT
BEGIN:VEVENT
DTSTART;TZID=UTC:20241126T090000
DTEND;TZID=UTC:20241126T120000
DTSTAMP:20260422T223746
CREATED:20240120T193349Z
LAST-MODIFIED:20240120T194733Z
UID:10005556-1732611600-1732622400@mission-accomplished.org
SUMMARY:Violet Keepsafe Storage
DESCRIPTION:
URL:https://mission-accomplished.org/event/violet-keepsafe-storage/2024-11-26/
LOCATION:Violet Keepsafe Storage\, 700 E 7th St\, Austin\, 78701\, United States
CATEGORIES:Operation Clean Clothes
ATTACH;FMTTYPE=image/png:https://mission-accomplished.org/wp-content/uploads/2023/12/2.png
END:VEVENT
BEGIN:VEVENT
DTSTART;TZID=UTC:20241125T090000
DTEND;TZID=UTC:20241125T120000
DTSTAMP:20260422T223746
CREATED:20240120T193046Z
LAST-MODIFIED:20240120T194806Z
UID:10005294-1732525200-1732536000@mission-accomplished.org
SUMMARY:Sunrise Homeless Navigation Center
DESCRIPTION:
URL:https://mission-accomplished.org/event/sunrise-homeless-navigation-center/2024-11-25/
LOCATION:Sunrise Homeless Navigation Center\, 4430 Menchaca Rd\, Austin\, 78745\, United States
CATEGORIES:Operation Clean Clothes
ATTACH;FMTTYPE=image/png:https://mission-accomplished.org/wp-content/uploads/2023/12/1.png
END:VEVENT
BEGIN:VEVENT
DTSTART;TZID=UTC:20241123T090000
DTEND;TZID=UTC:20241123T133000
DTSTAMP:20260422T223746
CREATED:20240120T193901Z
LAST-MODIFIED:20240120T194811Z
UID:10005699-1732352400-1732368600@mission-accomplished.org
SUMMARY:(TOOF) The Other Ones Foundation
DESCRIPTION:
URL:https://mission-accomplished.org/event/toof-the-other-ones-foundation/2024-11-23/
LOCATION:The Other Ones Foundation (TOOF)\, 780 S Hwy 183\, Austin\, 78741\, United States
CATEGORIES:Operation Clean Clothes
ATTACH;FMTTYPE=image/png:https://mission-accomplished.org/wp-content/uploads/2023/12/4.png
END:VEVENT
BEGIN:VEVENT
DTSTART;TZID=UTC:20241122T090000
DTEND;TZID=UTC:20241122T133000
DTSTAMP:20260422T223746
CREATED:20240120T193901Z
LAST-MODIFIED:20240120T194811Z
UID:10005698-1732266000-1732282200@mission-accomplished.org
SUMMARY:(TOOF) The Other Ones Foundation
DESCRIPTION:
URL:https://mission-accomplished.org/event/toof-the-other-ones-foundation/2024-11-22/
LOCATION:The Other Ones Foundation (TOOF)\, 780 S Hwy 183\, Austin\, 78741\, United States
CATEGORIES:Operation Clean Clothes
ATTACH;FMTTYPE=image/png:https://mission-accomplished.org/wp-content/uploads/2023/12/4.png
END:VEVENT
BEGIN:VEVENT
DTSTART;TZID=UTC:20241120T090000
DTEND;TZID=UTC:20241120T133000
DTSTAMP:20260422T223746
CREATED:20240120T193901Z
LAST-MODIFIED:20240120T194811Z
UID:10005697-1732093200-1732109400@mission-accomplished.org
SUMMARY:(TOOF) The Other Ones Foundation
DESCRIPTION:
URL:https://mission-accomplished.org/event/toof-the-other-ones-foundation/2024-11-20/
LOCATION:The Other Ones Foundation (TOOF)\, 780 S Hwy 183\, Austin\, 78741\, United States
CATEGORIES:Operation Clean Clothes
ATTACH;FMTTYPE=image/png:https://mission-accomplished.org/wp-content/uploads/2023/12/4.png
END:VEVENT
END:VCALENDAR