BEGIN:VCALENDAR
VERSION:2.0
PRODID:-//Mission Accomplished - ECPv6.15.20//NONSGML v1.0//EN
CALSCALE:GREGORIAN
METHOD:PUBLISH
X-WR-CALNAME:Mission Accomplished
X-ORIGINAL-URL:https://mission-accomplished.org
X-WR-CALDESC:Events for Mission Accomplished
REFRESH-INTERVAL;VALUE=DURATION:PT1H
X-Robots-Tag:noindex
X-PUBLISHED-TTL:PT1H
BEGIN:VTIMEZONE
TZID:UTC
BEGIN:STANDARD
TZOFFSETFROM:+0000
TZOFFSETTO:+0000
TZNAME:UTC
DTSTART:20230101T000000
END:STANDARD
END:VTIMEZONE
BEGIN:VEVENT
DTSTART;TZID=UTC:20241115T090000
DTEND;TZID=UTC:20241115T133000
DTSTAMP:20260423T054816
CREATED:20240120T193901Z
LAST-MODIFIED:20240120T194811Z
UID:10005695-1731661200-1731677400@mission-accomplished.org
SUMMARY:(TOOF) The Other Ones Foundation
DESCRIPTION:
URL:https://mission-accomplished.org/event/toof-the-other-ones-foundation/2024-11-15/
LOCATION:The Other Ones Foundation (TOOF)\, 780 S Hwy 183\, Austin\, 78741\, United States
CATEGORIES:Operation Clean Clothes
ATTACH;FMTTYPE=image/png:https://mission-accomplished.org/wp-content/uploads/2023/12/4.png
END:VEVENT
BEGIN:VEVENT
DTSTART;TZID=UTC:20241113T090000
DTEND;TZID=UTC:20241113T133000
DTSTAMP:20260423T054816
CREATED:20240120T193901Z
LAST-MODIFIED:20240120T194811Z
UID:10005694-1731488400-1731504600@mission-accomplished.org
SUMMARY:(TOOF) The Other Ones Foundation
DESCRIPTION:
URL:https://mission-accomplished.org/event/toof-the-other-ones-foundation/2024-11-13/
LOCATION:The Other Ones Foundation (TOOF)\, 780 S Hwy 183\, Austin\, 78741\, United States
CATEGORIES:Operation Clean Clothes
ATTACH;FMTTYPE=image/png:https://mission-accomplished.org/wp-content/uploads/2023/12/4.png
END:VEVENT
BEGIN:VEVENT
DTSTART;TZID=UTC:20241112T090000
DTEND;TZID=UTC:20241112T120000
DTSTAMP:20260423T054816
CREATED:20240120T193349Z
LAST-MODIFIED:20240120T194733Z
UID:10005554-1731402000-1731412800@mission-accomplished.org
SUMMARY:Violet Keepsafe Storage
DESCRIPTION:
URL:https://mission-accomplished.org/event/violet-keepsafe-storage/2024-11-12/
LOCATION:Violet Keepsafe Storage\, 700 E 7th St\, Austin\, 78701\, United States
CATEGORIES:Operation Clean Clothes
ATTACH;FMTTYPE=image/png:https://mission-accomplished.org/wp-content/uploads/2023/12/2.png
END:VEVENT
BEGIN:VEVENT
DTSTART;TZID=UTC:20241111T090000
DTEND;TZID=UTC:20241111T120000
DTSTAMP:20260423T054816
CREATED:20240120T193046Z
LAST-MODIFIED:20240120T194806Z
UID:10005292-1731315600-1731326400@mission-accomplished.org
SUMMARY:Sunrise Homeless Navigation Center
DESCRIPTION:
URL:https://mission-accomplished.org/event/sunrise-homeless-navigation-center/2024-11-11/
LOCATION:Sunrise Homeless Navigation Center\, 4430 Menchaca Rd\, Austin\, 78745\, United States
CATEGORIES:Operation Clean Clothes
ATTACH;FMTTYPE=image/png:https://mission-accomplished.org/wp-content/uploads/2023/12/1.png
END:VEVENT
BEGIN:VEVENT
DTSTART;TZID=UTC:20241109T090000
DTEND;TZID=UTC:20241109T133000
DTSTAMP:20260423T054816
CREATED:20240120T193901Z
LAST-MODIFIED:20240120T194811Z
UID:10005693-1731142800-1731159000@mission-accomplished.org
SUMMARY:(TOOF) The Other Ones Foundation
DESCRIPTION:
URL:https://mission-accomplished.org/event/toof-the-other-ones-foundation/2024-11-09/
LOCATION:The Other Ones Foundation (TOOF)\, 780 S Hwy 183\, Austin\, 78741\, United States
CATEGORIES:Operation Clean Clothes
ATTACH;FMTTYPE=image/png:https://mission-accomplished.org/wp-content/uploads/2023/12/4.png
END:VEVENT
BEGIN:VEVENT
DTSTART;TZID=UTC:20241108T090000
DTEND;TZID=UTC:20241108T133000
DTSTAMP:20260423T054816
CREATED:20240120T193901Z
LAST-MODIFIED:20240120T194811Z
UID:10005692-1731056400-1731072600@mission-accomplished.org
SUMMARY:(TOOF) The Other Ones Foundation
DESCRIPTION:
URL:https://mission-accomplished.org/event/toof-the-other-ones-foundation/2024-11-08/
LOCATION:The Other Ones Foundation (TOOF)\, 780 S Hwy 183\, Austin\, 78741\, United States
CATEGORIES:Operation Clean Clothes
ATTACH;FMTTYPE=image/png:https://mission-accomplished.org/wp-content/uploads/2023/12/4.png
END:VEVENT
BEGIN:VEVENT
DTSTART;TZID=UTC:20241106T090000
DTEND;TZID=UTC:20241106T133000
DTSTAMP:20260423T054816
CREATED:20240120T193901Z
LAST-MODIFIED:20240120T194811Z
UID:10005691-1730883600-1730899800@mission-accomplished.org
SUMMARY:(TOOF) The Other Ones Foundation
DESCRIPTION:
URL:https://mission-accomplished.org/event/toof-the-other-ones-foundation/2024-11-06/
LOCATION:The Other Ones Foundation (TOOF)\, 780 S Hwy 183\, Austin\, 78741\, United States
CATEGORIES:Operation Clean Clothes
ATTACH;FMTTYPE=image/png:https://mission-accomplished.org/wp-content/uploads/2023/12/4.png
END:VEVENT
BEGIN:VEVENT
DTSTART;TZID=UTC:20241105T090000
DTEND;TZID=UTC:20241105T120000
DTSTAMP:20260423T054816
CREATED:20240120T193349Z
LAST-MODIFIED:20240120T194733Z
UID:10005553-1730797200-1730808000@mission-accomplished.org
SUMMARY:Violet Keepsafe Storage
DESCRIPTION:
URL:https://mission-accomplished.org/event/violet-keepsafe-storage/2024-11-05/
LOCATION:Violet Keepsafe Storage\, 700 E 7th St\, Austin\, 78701\, United States
CATEGORIES:Operation Clean Clothes
ATTACH;FMTTYPE=image/png:https://mission-accomplished.org/wp-content/uploads/2023/12/2.png
END:VEVENT
BEGIN:VEVENT
DTSTART;TZID=UTC:20241104T090000
DTEND;TZID=UTC:20241104T120000
DTSTAMP:20260423T054816
CREATED:20240120T193046Z
LAST-MODIFIED:20240120T194806Z
UID:10005291-1730710800-1730721600@mission-accomplished.org
SUMMARY:Sunrise Homeless Navigation Center
DESCRIPTION:
URL:https://mission-accomplished.org/event/sunrise-homeless-navigation-center/2024-11-04/
LOCATION:Sunrise Homeless Navigation Center\, 4430 Menchaca Rd\, Austin\, 78745\, United States
CATEGORIES:Operation Clean Clothes
ATTACH;FMTTYPE=image/png:https://mission-accomplished.org/wp-content/uploads/2023/12/1.png
END:VEVENT
BEGIN:VEVENT
DTSTART;TZID=UTC:20241102T090000
DTEND;TZID=UTC:20241102T133000
DTSTAMP:20260423T054816
CREATED:20240120T193901Z
LAST-MODIFIED:20240120T194811Z
UID:10005690-1730538000-1730554200@mission-accomplished.org
SUMMARY:(TOOF) The Other Ones Foundation
DESCRIPTION:
URL:https://mission-accomplished.org/event/toof-the-other-ones-foundation/2024-11-02/
LOCATION:The Other Ones Foundation (TOOF)\, 780 S Hwy 183\, Austin\, 78741\, United States
CATEGORIES:Operation Clean Clothes
ATTACH;FMTTYPE=image/png:https://mission-accomplished.org/wp-content/uploads/2023/12/4.png
END:VEVENT
BEGIN:VEVENT
DTSTART;TZID=UTC:20241101T090000
DTEND;TZID=UTC:20241101T133000
DTSTAMP:20260423T054816
CREATED:20240120T193901Z
LAST-MODIFIED:20240120T194811Z
UID:10005689-1730451600-1730467800@mission-accomplished.org
SUMMARY:(TOOF) The Other Ones Foundation
DESCRIPTION:
URL:https://mission-accomplished.org/event/toof-the-other-ones-foundation/2024-11-01/
LOCATION:The Other Ones Foundation (TOOF)\, 780 S Hwy 183\, Austin\, 78741\, United States
CATEGORIES:Operation Clean Clothes
ATTACH;FMTTYPE=image/png:https://mission-accomplished.org/wp-content/uploads/2023/12/4.png
END:VEVENT
BEGIN:VEVENT
DTSTART;TZID=UTC:20241030T090000
DTEND;TZID=UTC:20241030T133000
DTSTAMP:20260423T054816
CREATED:20240120T193901Z
LAST-MODIFIED:20240120T194811Z
UID:10005688-1730278800-1730295000@mission-accomplished.org
SUMMARY:(TOOF) The Other Ones Foundation
DESCRIPTION:
URL:https://mission-accomplished.org/event/toof-the-other-ones-foundation/2024-10-30/
LOCATION:The Other Ones Foundation (TOOF)\, 780 S Hwy 183\, Austin\, 78741\, United States
CATEGORIES:Operation Clean Clothes
ATTACH;FMTTYPE=image/png:https://mission-accomplished.org/wp-content/uploads/2023/12/4.png
END:VEVENT
BEGIN:VEVENT
DTSTART;TZID=UTC:20241029T090000
DTEND;TZID=UTC:20241029T120000
DTSTAMP:20260423T054816
CREATED:20240120T193349Z
LAST-MODIFIED:20240120T194733Z
UID:10005552-1730192400-1730203200@mission-accomplished.org
SUMMARY:Violet Keepsafe Storage
DESCRIPTION:
URL:https://mission-accomplished.org/event/violet-keepsafe-storage/2024-10-29/
LOCATION:Violet Keepsafe Storage\, 700 E 7th St\, Austin\, 78701\, United States
CATEGORIES:Operation Clean Clothes
ATTACH;FMTTYPE=image/png:https://mission-accomplished.org/wp-content/uploads/2023/12/2.png
END:VEVENT
BEGIN:VEVENT
DTSTART;TZID=UTC:20241028T090000
DTEND;TZID=UTC:20241028T120000
DTSTAMP:20260423T054816
CREATED:20240120T193046Z
LAST-MODIFIED:20240120T194806Z
UID:10005290-1730106000-1730116800@mission-accomplished.org
SUMMARY:Sunrise Homeless Navigation Center
DESCRIPTION:
URL:https://mission-accomplished.org/event/sunrise-homeless-navigation-center/2024-10-28/
LOCATION:Sunrise Homeless Navigation Center\, 4430 Menchaca Rd\, Austin\, 78745\, United States
CATEGORIES:Operation Clean Clothes
ATTACH;FMTTYPE=image/png:https://mission-accomplished.org/wp-content/uploads/2023/12/1.png
END:VEVENT
BEGIN:VEVENT
DTSTART;TZID=UTC:20241026T090000
DTEND;TZID=UTC:20241026T133000
DTSTAMP:20260423T054816
CREATED:20240120T193901Z
LAST-MODIFIED:20240120T194811Z
UID:10005687-1729933200-1729949400@mission-accomplished.org
SUMMARY:(TOOF) The Other Ones Foundation
DESCRIPTION:
URL:https://mission-accomplished.org/event/toof-the-other-ones-foundation/2024-10-26/
LOCATION:The Other Ones Foundation (TOOF)\, 780 S Hwy 183\, Austin\, 78741\, United States
CATEGORIES:Operation Clean Clothes
ATTACH;FMTTYPE=image/png:https://mission-accomplished.org/wp-content/uploads/2023/12/4.png
END:VEVENT
BEGIN:VEVENT
DTSTART;TZID=UTC:20241025T090000
DTEND;TZID=UTC:20241025T133000
DTSTAMP:20260423T054816
CREATED:20240120T193901Z
LAST-MODIFIED:20240120T194811Z
UID:10005686-1729846800-1729863000@mission-accomplished.org
SUMMARY:(TOOF) The Other Ones Foundation
DESCRIPTION:
URL:https://mission-accomplished.org/event/toof-the-other-ones-foundation/2024-10-25/
LOCATION:The Other Ones Foundation (TOOF)\, 780 S Hwy 183\, Austin\, 78741\, United States
CATEGORIES:Operation Clean Clothes
ATTACH;FMTTYPE=image/png:https://mission-accomplished.org/wp-content/uploads/2023/12/4.png
END:VEVENT
BEGIN:VEVENT
DTSTART;TZID=UTC:20241023T090000
DTEND;TZID=UTC:20241023T133000
DTSTAMP:20260423T054816
CREATED:20240120T193901Z
LAST-MODIFIED:20240120T194811Z
UID:10005685-1729674000-1729690200@mission-accomplished.org
SUMMARY:(TOOF) The Other Ones Foundation
DESCRIPTION:
URL:https://mission-accomplished.org/event/toof-the-other-ones-foundation/2024-10-23/
LOCATION:The Other Ones Foundation (TOOF)\, 780 S Hwy 183\, Austin\, 78741\, United States
CATEGORIES:Operation Clean Clothes
ATTACH;FMTTYPE=image/png:https://mission-accomplished.org/wp-content/uploads/2023/12/4.png
END:VEVENT
BEGIN:VEVENT
DTSTART;TZID=UTC:20241022T090000
DTEND;TZID=UTC:20241022T120000
DTSTAMP:20260423T054816
CREATED:20240120T193349Z
LAST-MODIFIED:20240120T194733Z
UID:10005551-1729587600-1729598400@mission-accomplished.org
SUMMARY:Violet Keepsafe Storage
DESCRIPTION:
URL:https://mission-accomplished.org/event/violet-keepsafe-storage/2024-10-22/
LOCATION:Violet Keepsafe Storage\, 700 E 7th St\, Austin\, 78701\, United States
CATEGORIES:Operation Clean Clothes
ATTACH;FMTTYPE=image/png:https://mission-accomplished.org/wp-content/uploads/2023/12/2.png
END:VEVENT
BEGIN:VEVENT
DTSTART;TZID=UTC:20241021T090000
DTEND;TZID=UTC:20241021T120000
DTSTAMP:20260423T054816
CREATED:20240120T193046Z
LAST-MODIFIED:20240120T194806Z
UID:10005289-1729501200-1729512000@mission-accomplished.org
SUMMARY:Sunrise Homeless Navigation Center
DESCRIPTION:
URL:https://mission-accomplished.org/event/sunrise-homeless-navigation-center/2024-10-21/
LOCATION:Sunrise Homeless Navigation Center\, 4430 Menchaca Rd\, Austin\, 78745\, United States
CATEGORIES:Operation Clean Clothes
ATTACH;FMTTYPE=image/png:https://mission-accomplished.org/wp-content/uploads/2023/12/1.png
END:VEVENT
BEGIN:VEVENT
DTSTART;TZID=UTC:20241019T090000
DTEND;TZID=UTC:20241019T133000
DTSTAMP:20260423T054816
CREATED:20240120T193901Z
LAST-MODIFIED:20240120T194811Z
UID:10005684-1729328400-1729344600@mission-accomplished.org
SUMMARY:(TOOF) The Other Ones Foundation
DESCRIPTION:
URL:https://mission-accomplished.org/event/toof-the-other-ones-foundation/2024-10-19/
LOCATION:The Other Ones Foundation (TOOF)\, 780 S Hwy 183\, Austin\, 78741\, United States
CATEGORIES:Operation Clean Clothes
ATTACH;FMTTYPE=image/png:https://mission-accomplished.org/wp-content/uploads/2023/12/4.png
END:VEVENT
BEGIN:VEVENT
DTSTART;TZID=UTC:20241018T090000
DTEND;TZID=UTC:20241018T133000
DTSTAMP:20260423T054816
CREATED:20240120T193901Z
LAST-MODIFIED:20240120T194811Z
UID:10005683-1729242000-1729258200@mission-accomplished.org
SUMMARY:(TOOF) The Other Ones Foundation
DESCRIPTION:
URL:https://mission-accomplished.org/event/toof-the-other-ones-foundation/2024-10-18/
LOCATION:The Other Ones Foundation (TOOF)\, 780 S Hwy 183\, Austin\, 78741\, United States
CATEGORIES:Operation Clean Clothes
ATTACH;FMTTYPE=image/png:https://mission-accomplished.org/wp-content/uploads/2023/12/4.png
END:VEVENT
BEGIN:VEVENT
DTSTART;TZID=UTC:20241016T090000
DTEND;TZID=UTC:20241016T133000
DTSTAMP:20260423T054816
CREATED:20240120T193901Z
LAST-MODIFIED:20240120T194811Z
UID:10005682-1729069200-1729085400@mission-accomplished.org
SUMMARY:(TOOF) The Other Ones Foundation
DESCRIPTION:
URL:https://mission-accomplished.org/event/toof-the-other-ones-foundation/2024-10-16/
LOCATION:The Other Ones Foundation (TOOF)\, 780 S Hwy 183\, Austin\, 78741\, United States
CATEGORIES:Operation Clean Clothes
ATTACH;FMTTYPE=image/png:https://mission-accomplished.org/wp-content/uploads/2023/12/4.png
END:VEVENT
BEGIN:VEVENT
DTSTART;TZID=UTC:20241015T090000
DTEND;TZID=UTC:20241015T120000
DTSTAMP:20260423T054816
CREATED:20240120T193349Z
LAST-MODIFIED:20240120T194733Z
UID:10005550-1728982800-1728993600@mission-accomplished.org
SUMMARY:Violet Keepsafe Storage
DESCRIPTION:
URL:https://mission-accomplished.org/event/violet-keepsafe-storage/2024-10-15/
LOCATION:Violet Keepsafe Storage\, 700 E 7th St\, Austin\, 78701\, United States
CATEGORIES:Operation Clean Clothes
ATTACH;FMTTYPE=image/png:https://mission-accomplished.org/wp-content/uploads/2023/12/2.png
END:VEVENT
BEGIN:VEVENT
DTSTART;TZID=UTC:20241014T090000
DTEND;TZID=UTC:20241014T120000
DTSTAMP:20260423T054816
CREATED:20240120T193046Z
LAST-MODIFIED:20240120T194806Z
UID:10005288-1728896400-1728907200@mission-accomplished.org
SUMMARY:Sunrise Homeless Navigation Center
DESCRIPTION:
URL:https://mission-accomplished.org/event/sunrise-homeless-navigation-center/2024-10-14/
LOCATION:Sunrise Homeless Navigation Center\, 4430 Menchaca Rd\, Austin\, 78745\, United States
CATEGORIES:Operation Clean Clothes
ATTACH;FMTTYPE=image/png:https://mission-accomplished.org/wp-content/uploads/2023/12/1.png
END:VEVENT
BEGIN:VEVENT
DTSTART;TZID=UTC:20241012T090000
DTEND;TZID=UTC:20241012T133000
DTSTAMP:20260423T054816
CREATED:20240120T193901Z
LAST-MODIFIED:20240120T194811Z
UID:10005681-1728723600-1728739800@mission-accomplished.org
SUMMARY:(TOOF) The Other Ones Foundation
DESCRIPTION:
URL:https://mission-accomplished.org/event/toof-the-other-ones-foundation/2024-10-12/
LOCATION:The Other Ones Foundation (TOOF)\, 780 S Hwy 183\, Austin\, 78741\, United States
CATEGORIES:Operation Clean Clothes
ATTACH;FMTTYPE=image/png:https://mission-accomplished.org/wp-content/uploads/2023/12/4.png
END:VEVENT
BEGIN:VEVENT
DTSTART;TZID=UTC:20241011T090000
DTEND;TZID=UTC:20241011T133000
DTSTAMP:20260423T054816
CREATED:20240120T193901Z
LAST-MODIFIED:20240120T194811Z
UID:10005680-1728637200-1728653400@mission-accomplished.org
SUMMARY:(TOOF) The Other Ones Foundation
DESCRIPTION:
URL:https://mission-accomplished.org/event/toof-the-other-ones-foundation/2024-10-11/
LOCATION:The Other Ones Foundation (TOOF)\, 780 S Hwy 183\, Austin\, 78741\, United States
CATEGORIES:Operation Clean Clothes
ATTACH;FMTTYPE=image/png:https://mission-accomplished.org/wp-content/uploads/2023/12/4.png
END:VEVENT
BEGIN:VEVENT
DTSTART;TZID=UTC:20241009T090000
DTEND;TZID=UTC:20241009T133000
DTSTAMP:20260423T054816
CREATED:20240120T193901Z
LAST-MODIFIED:20240120T194811Z
UID:10005679-1728464400-1728480600@mission-accomplished.org
SUMMARY:(TOOF) The Other Ones Foundation
DESCRIPTION:
URL:https://mission-accomplished.org/event/toof-the-other-ones-foundation/2024-10-09/
LOCATION:The Other Ones Foundation (TOOF)\, 780 S Hwy 183\, Austin\, 78741\, United States
CATEGORIES:Operation Clean Clothes
ATTACH;FMTTYPE=image/png:https://mission-accomplished.org/wp-content/uploads/2023/12/4.png
END:VEVENT
BEGIN:VEVENT
DTSTART;TZID=UTC:20241008T090000
DTEND;TZID=UTC:20241008T120000
DTSTAMP:20260423T054816
CREATED:20240120T193349Z
LAST-MODIFIED:20240120T194733Z
UID:10005549-1728378000-1728388800@mission-accomplished.org
SUMMARY:Violet Keepsafe Storage
DESCRIPTION:
URL:https://mission-accomplished.org/event/violet-keepsafe-storage/2024-10-08/
LOCATION:Violet Keepsafe Storage\, 700 E 7th St\, Austin\, 78701\, United States
CATEGORIES:Operation Clean Clothes
ATTACH;FMTTYPE=image/png:https://mission-accomplished.org/wp-content/uploads/2023/12/2.png
END:VEVENT
BEGIN:VEVENT
DTSTART;TZID=UTC:20241007T090000
DTEND;TZID=UTC:20241007T120000
DTSTAMP:20260423T054816
CREATED:20240120T193046Z
LAST-MODIFIED:20240120T194806Z
UID:10005287-1728291600-1728302400@mission-accomplished.org
SUMMARY:Sunrise Homeless Navigation Center
DESCRIPTION:
URL:https://mission-accomplished.org/event/sunrise-homeless-navigation-center/2024-10-07/
LOCATION:Sunrise Homeless Navigation Center\, 4430 Menchaca Rd\, Austin\, 78745\, United States
CATEGORIES:Operation Clean Clothes
ATTACH;FMTTYPE=image/png:https://mission-accomplished.org/wp-content/uploads/2023/12/1.png
END:VEVENT
BEGIN:VEVENT
DTSTART;TZID=UTC:20241005T090000
DTEND;TZID=UTC:20241005T133000
DTSTAMP:20260423T054816
CREATED:20240120T193901Z
LAST-MODIFIED:20240120T194811Z
UID:10005678-1728118800-1728135000@mission-accomplished.org
SUMMARY:(TOOF) The Other Ones Foundation
DESCRIPTION:
URL:https://mission-accomplished.org/event/toof-the-other-ones-foundation/2024-10-05/
LOCATION:The Other Ones Foundation (TOOF)\, 780 S Hwy 183\, Austin\, 78741\, United States
CATEGORIES:Operation Clean Clothes
ATTACH;FMTTYPE=image/png:https://mission-accomplished.org/wp-content/uploads/2023/12/4.png
END:VEVENT
END:VCALENDAR