BEGIN:VCALENDAR
VERSION:2.0
PRODID:-//Mission Accomplished - ECPv6.15.20//NONSGML v1.0//EN
CALSCALE:GREGORIAN
METHOD:PUBLISH
X-WR-CALNAME:Mission Accomplished
X-ORIGINAL-URL:https://mission-accomplished.org
X-WR-CALDESC:Events for Mission Accomplished
REFRESH-INTERVAL;VALUE=DURATION:PT1H
X-Robots-Tag:noindex
X-PUBLISHED-TTL:PT1H
BEGIN:VTIMEZONE
TZID:UTC
BEGIN:STANDARD
TZOFFSETFROM:+0000
TZOFFSETTO:+0000
TZNAME:UTC
DTSTART:20230101T000000
END:STANDARD
END:VTIMEZONE
BEGIN:VEVENT
DTSTART;TZID=UTC:20240726T090000
DTEND;TZID=UTC:20240726T133000
DTSTAMP:20260423T184830
CREATED:20240120T193901Z
LAST-MODIFIED:20240120T194811Z
UID:10005647-1721984400-1722000600@mission-accomplished.org
SUMMARY:(TOOF) The Other Ones Foundation
DESCRIPTION:
URL:https://mission-accomplished.org/event/toof-the-other-ones-foundation/2024-07-26/
LOCATION:The Other Ones Foundation (TOOF)\, 780 S Hwy 183\, Austin\, 78741\, United States
CATEGORIES:Operation Clean Clothes
ATTACH;FMTTYPE=image/png:https://mission-accomplished.org/wp-content/uploads/2023/12/4.png
END:VEVENT
BEGIN:VEVENT
DTSTART;TZID=UTC:20240724T090000
DTEND;TZID=UTC:20240724T133000
DTSTAMP:20260423T184830
CREATED:20240120T193901Z
LAST-MODIFIED:20240120T194811Z
UID:10005646-1721811600-1721827800@mission-accomplished.org
SUMMARY:(TOOF) The Other Ones Foundation
DESCRIPTION:
URL:https://mission-accomplished.org/event/toof-the-other-ones-foundation/2024-07-24/
LOCATION:The Other Ones Foundation (TOOF)\, 780 S Hwy 183\, Austin\, 78741\, United States
CATEGORIES:Operation Clean Clothes
ATTACH;FMTTYPE=image/png:https://mission-accomplished.org/wp-content/uploads/2023/12/4.png
END:VEVENT
BEGIN:VEVENT
DTSTART;TZID=UTC:20240723T090000
DTEND;TZID=UTC:20240723T120000
DTSTAMP:20260423T184830
CREATED:20240120T193349Z
LAST-MODIFIED:20240120T194733Z
UID:10005538-1721725200-1721736000@mission-accomplished.org
SUMMARY:Violet Keepsafe Storage
DESCRIPTION:
URL:https://mission-accomplished.org/event/violet-keepsafe-storage/2024-07-23/
LOCATION:Violet Keepsafe Storage\, 700 E 7th St\, Austin\, 78701\, United States
CATEGORIES:Operation Clean Clothes
ATTACH;FMTTYPE=image/png:https://mission-accomplished.org/wp-content/uploads/2023/12/2.png
END:VEVENT
BEGIN:VEVENT
DTSTART;TZID=UTC:20240722T090000
DTEND;TZID=UTC:20240722T120000
DTSTAMP:20260423T184830
CREATED:20240120T193046Z
LAST-MODIFIED:20240120T194806Z
UID:10005276-1721638800-1721649600@mission-accomplished.org
SUMMARY:Sunrise Homeless Navigation Center
DESCRIPTION:
URL:https://mission-accomplished.org/event/sunrise-homeless-navigation-center/2024-07-22/
LOCATION:Sunrise Homeless Navigation Center\, 4430 Menchaca Rd\, Austin\, 78745\, United States
CATEGORIES:Operation Clean Clothes
ATTACH;FMTTYPE=image/png:https://mission-accomplished.org/wp-content/uploads/2023/12/1.png
END:VEVENT
BEGIN:VEVENT
DTSTART;TZID=UTC:20240720T090000
DTEND;TZID=UTC:20240720T133000
DTSTAMP:20260423T184830
CREATED:20240120T193901Z
LAST-MODIFIED:20240120T194811Z
UID:10005645-1721466000-1721482200@mission-accomplished.org
SUMMARY:(TOOF) The Other Ones Foundation
DESCRIPTION:
URL:https://mission-accomplished.org/event/toof-the-other-ones-foundation/2024-07-20/
LOCATION:The Other Ones Foundation (TOOF)\, 780 S Hwy 183\, Austin\, 78741\, United States
CATEGORIES:Operation Clean Clothes
ATTACH;FMTTYPE=image/png:https://mission-accomplished.org/wp-content/uploads/2023/12/4.png
END:VEVENT
BEGIN:VEVENT
DTSTART;TZID=UTC:20240719T090000
DTEND;TZID=UTC:20240719T133000
DTSTAMP:20260423T184830
CREATED:20240120T193901Z
LAST-MODIFIED:20240120T194811Z
UID:10005644-1721379600-1721395800@mission-accomplished.org
SUMMARY:(TOOF) The Other Ones Foundation
DESCRIPTION:
URL:https://mission-accomplished.org/event/toof-the-other-ones-foundation/2024-07-19/
LOCATION:The Other Ones Foundation (TOOF)\, 780 S Hwy 183\, Austin\, 78741\, United States
CATEGORIES:Operation Clean Clothes
ATTACH;FMTTYPE=image/png:https://mission-accomplished.org/wp-content/uploads/2023/12/4.png
END:VEVENT
BEGIN:VEVENT
DTSTART;TZID=UTC:20240717T090000
DTEND;TZID=UTC:20240717T133000
DTSTAMP:20260423T184830
CREATED:20240120T193901Z
LAST-MODIFIED:20240120T194811Z
UID:10005643-1721206800-1721223000@mission-accomplished.org
SUMMARY:(TOOF) The Other Ones Foundation
DESCRIPTION:
URL:https://mission-accomplished.org/event/toof-the-other-ones-foundation/2024-07-17/
LOCATION:The Other Ones Foundation (TOOF)\, 780 S Hwy 183\, Austin\, 78741\, United States
CATEGORIES:Operation Clean Clothes
ATTACH;FMTTYPE=image/png:https://mission-accomplished.org/wp-content/uploads/2023/12/4.png
END:VEVENT
BEGIN:VEVENT
DTSTART;TZID=UTC:20240716T090000
DTEND;TZID=UTC:20240716T120000
DTSTAMP:20260423T184830
CREATED:20240120T193349Z
LAST-MODIFIED:20240120T194733Z
UID:10005537-1721120400-1721131200@mission-accomplished.org
SUMMARY:Violet Keepsafe Storage
DESCRIPTION:
URL:https://mission-accomplished.org/event/violet-keepsafe-storage/2024-07-16/
LOCATION:Violet Keepsafe Storage\, 700 E 7th St\, Austin\, 78701\, United States
CATEGORIES:Operation Clean Clothes
ATTACH;FMTTYPE=image/png:https://mission-accomplished.org/wp-content/uploads/2023/12/2.png
END:VEVENT
BEGIN:VEVENT
DTSTART;TZID=UTC:20240715T090000
DTEND;TZID=UTC:20240715T120000
DTSTAMP:20260423T184830
CREATED:20240120T193046Z
LAST-MODIFIED:20240120T194806Z
UID:10005275-1721034000-1721044800@mission-accomplished.org
SUMMARY:Sunrise Homeless Navigation Center
DESCRIPTION:
URL:https://mission-accomplished.org/event/sunrise-homeless-navigation-center/2024-07-15/
LOCATION:Sunrise Homeless Navigation Center\, 4430 Menchaca Rd\, Austin\, 78745\, United States
CATEGORIES:Operation Clean Clothes
ATTACH;FMTTYPE=image/png:https://mission-accomplished.org/wp-content/uploads/2023/12/1.png
END:VEVENT
BEGIN:VEVENT
DTSTART;TZID=UTC:20240713T090000
DTEND;TZID=UTC:20240713T133000
DTSTAMP:20260423T184830
CREATED:20240120T193901Z
LAST-MODIFIED:20240120T194811Z
UID:10005642-1720861200-1720877400@mission-accomplished.org
SUMMARY:(TOOF) The Other Ones Foundation
DESCRIPTION:
URL:https://mission-accomplished.org/event/toof-the-other-ones-foundation/2024-07-13/
LOCATION:The Other Ones Foundation (TOOF)\, 780 S Hwy 183\, Austin\, 78741\, United States
CATEGORIES:Operation Clean Clothes
ATTACH;FMTTYPE=image/png:https://mission-accomplished.org/wp-content/uploads/2023/12/4.png
END:VEVENT
BEGIN:VEVENT
DTSTART;TZID=UTC:20240712T090000
DTEND;TZID=UTC:20240712T133000
DTSTAMP:20260423T184830
CREATED:20240120T193901Z
LAST-MODIFIED:20240120T194811Z
UID:10005641-1720774800-1720791000@mission-accomplished.org
SUMMARY:(TOOF) The Other Ones Foundation
DESCRIPTION:
URL:https://mission-accomplished.org/event/toof-the-other-ones-foundation/2024-07-12/
LOCATION:The Other Ones Foundation (TOOF)\, 780 S Hwy 183\, Austin\, 78741\, United States
CATEGORIES:Operation Clean Clothes
ATTACH;FMTTYPE=image/png:https://mission-accomplished.org/wp-content/uploads/2023/12/4.png
END:VEVENT
BEGIN:VEVENT
DTSTART;TZID=UTC:20240710T090000
DTEND;TZID=UTC:20240710T133000
DTSTAMP:20260423T184830
CREATED:20240120T193901Z
LAST-MODIFIED:20240120T194811Z
UID:10005640-1720602000-1720618200@mission-accomplished.org
SUMMARY:(TOOF) The Other Ones Foundation
DESCRIPTION:
URL:https://mission-accomplished.org/event/toof-the-other-ones-foundation/2024-07-10/
LOCATION:The Other Ones Foundation (TOOF)\, 780 S Hwy 183\, Austin\, 78741\, United States
CATEGORIES:Operation Clean Clothes
ATTACH;FMTTYPE=image/png:https://mission-accomplished.org/wp-content/uploads/2023/12/4.png
END:VEVENT
BEGIN:VEVENT
DTSTART;TZID=UTC:20240709T090000
DTEND;TZID=UTC:20240709T120000
DTSTAMP:20260423T184830
CREATED:20240120T193349Z
LAST-MODIFIED:20240120T194733Z
UID:10005536-1720515600-1720526400@mission-accomplished.org
SUMMARY:Violet Keepsafe Storage
DESCRIPTION:
URL:https://mission-accomplished.org/event/violet-keepsafe-storage/2024-07-09/
LOCATION:Violet Keepsafe Storage\, 700 E 7th St\, Austin\, 78701\, United States
CATEGORIES:Operation Clean Clothes
ATTACH;FMTTYPE=image/png:https://mission-accomplished.org/wp-content/uploads/2023/12/2.png
END:VEVENT
BEGIN:VEVENT
DTSTART;TZID=UTC:20240708T090000
DTEND;TZID=UTC:20240708T120000
DTSTAMP:20260423T184830
CREATED:20240120T193046Z
LAST-MODIFIED:20240120T194806Z
UID:10005274-1720429200-1720440000@mission-accomplished.org
SUMMARY:Sunrise Homeless Navigation Center
DESCRIPTION:
URL:https://mission-accomplished.org/event/sunrise-homeless-navigation-center/2024-07-08/
LOCATION:Sunrise Homeless Navigation Center\, 4430 Menchaca Rd\, Austin\, 78745\, United States
CATEGORIES:Operation Clean Clothes
ATTACH;FMTTYPE=image/png:https://mission-accomplished.org/wp-content/uploads/2023/12/1.png
END:VEVENT
BEGIN:VEVENT
DTSTART;TZID=UTC:20240706T090000
DTEND;TZID=UTC:20240706T133000
DTSTAMP:20260423T184830
CREATED:20240120T193901Z
LAST-MODIFIED:20240120T194811Z
UID:10005639-1720256400-1720272600@mission-accomplished.org
SUMMARY:(TOOF) The Other Ones Foundation
DESCRIPTION:
URL:https://mission-accomplished.org/event/toof-the-other-ones-foundation/2024-07-06/
LOCATION:The Other Ones Foundation (TOOF)\, 780 S Hwy 183\, Austin\, 78741\, United States
CATEGORIES:Operation Clean Clothes
ATTACH;FMTTYPE=image/png:https://mission-accomplished.org/wp-content/uploads/2023/12/4.png
END:VEVENT
BEGIN:VEVENT
DTSTART;TZID=UTC:20240705T090000
DTEND;TZID=UTC:20240705T133000
DTSTAMP:20260423T184830
CREATED:20240120T193901Z
LAST-MODIFIED:20240120T194811Z
UID:10005638-1720170000-1720186200@mission-accomplished.org
SUMMARY:(TOOF) The Other Ones Foundation
DESCRIPTION:
URL:https://mission-accomplished.org/event/toof-the-other-ones-foundation/2024-07-05/
LOCATION:The Other Ones Foundation (TOOF)\, 780 S Hwy 183\, Austin\, 78741\, United States
CATEGORIES:Operation Clean Clothes
ATTACH;FMTTYPE=image/png:https://mission-accomplished.org/wp-content/uploads/2023/12/4.png
END:VEVENT
BEGIN:VEVENT
DTSTART;TZID=UTC:20240703T090000
DTEND;TZID=UTC:20240703T133000
DTSTAMP:20260423T184830
CREATED:20240120T193901Z
LAST-MODIFIED:20240120T194811Z
UID:10005637-1719997200-1720013400@mission-accomplished.org
SUMMARY:(TOOF) The Other Ones Foundation
DESCRIPTION:
URL:https://mission-accomplished.org/event/toof-the-other-ones-foundation/2024-07-03/
LOCATION:The Other Ones Foundation (TOOF)\, 780 S Hwy 183\, Austin\, 78741\, United States
CATEGORIES:Operation Clean Clothes
ATTACH;FMTTYPE=image/png:https://mission-accomplished.org/wp-content/uploads/2023/12/4.png
END:VEVENT
BEGIN:VEVENT
DTSTART;TZID=UTC:20240702T090000
DTEND;TZID=UTC:20240702T120000
DTSTAMP:20260423T184830
CREATED:20240120T193349Z
LAST-MODIFIED:20240120T194733Z
UID:10005535-1719910800-1719921600@mission-accomplished.org
SUMMARY:Violet Keepsafe Storage
DESCRIPTION:
URL:https://mission-accomplished.org/event/violet-keepsafe-storage/2024-07-02/
LOCATION:Violet Keepsafe Storage\, 700 E 7th St\, Austin\, 78701\, United States
CATEGORIES:Operation Clean Clothes
ATTACH;FMTTYPE=image/png:https://mission-accomplished.org/wp-content/uploads/2023/12/2.png
END:VEVENT
BEGIN:VEVENT
DTSTART;TZID=UTC:20240701T090000
DTEND;TZID=UTC:20240701T120000
DTSTAMP:20260423T184830
CREATED:20240120T193046Z
LAST-MODIFIED:20240120T194806Z
UID:10005273-1719824400-1719835200@mission-accomplished.org
SUMMARY:Sunrise Homeless Navigation Center
DESCRIPTION:
URL:https://mission-accomplished.org/event/sunrise-homeless-navigation-center/2024-07-01/
LOCATION:Sunrise Homeless Navigation Center\, 4430 Menchaca Rd\, Austin\, 78745\, United States
CATEGORIES:Operation Clean Clothes
ATTACH;FMTTYPE=image/png:https://mission-accomplished.org/wp-content/uploads/2023/12/1.png
END:VEVENT
BEGIN:VEVENT
DTSTART;TZID=UTC:20240629T090000
DTEND;TZID=UTC:20240629T133000
DTSTAMP:20260423T184830
CREATED:20240120T193901Z
LAST-MODIFIED:20240120T194811Z
UID:10005636-1719651600-1719667800@mission-accomplished.org
SUMMARY:(TOOF) The Other Ones Foundation
DESCRIPTION:
URL:https://mission-accomplished.org/event/toof-the-other-ones-foundation/2024-06-29/
LOCATION:The Other Ones Foundation (TOOF)\, 780 S Hwy 183\, Austin\, 78741\, United States
CATEGORIES:Operation Clean Clothes
ATTACH;FMTTYPE=image/png:https://mission-accomplished.org/wp-content/uploads/2023/12/4.png
END:VEVENT
BEGIN:VEVENT
DTSTART;TZID=UTC:20240628T090000
DTEND;TZID=UTC:20240628T133000
DTSTAMP:20260423T184830
CREATED:20240120T193901Z
LAST-MODIFIED:20240120T194811Z
UID:10005635-1719565200-1719581400@mission-accomplished.org
SUMMARY:(TOOF) The Other Ones Foundation
DESCRIPTION:
URL:https://mission-accomplished.org/event/toof-the-other-ones-foundation/2024-06-28/
LOCATION:The Other Ones Foundation (TOOF)\, 780 S Hwy 183\, Austin\, 78741\, United States
CATEGORIES:Operation Clean Clothes
ATTACH;FMTTYPE=image/png:https://mission-accomplished.org/wp-content/uploads/2023/12/4.png
END:VEVENT
BEGIN:VEVENT
DTSTART;TZID=UTC:20240626T090000
DTEND;TZID=UTC:20240626T133000
DTSTAMP:20260423T184830
CREATED:20240120T193901Z
LAST-MODIFIED:20240120T194811Z
UID:10005634-1719392400-1719408600@mission-accomplished.org
SUMMARY:(TOOF) The Other Ones Foundation
DESCRIPTION:
URL:https://mission-accomplished.org/event/toof-the-other-ones-foundation/2024-06-26/
LOCATION:The Other Ones Foundation (TOOF)\, 780 S Hwy 183\, Austin\, 78741\, United States
CATEGORIES:Operation Clean Clothes
ATTACH;FMTTYPE=image/png:https://mission-accomplished.org/wp-content/uploads/2023/12/4.png
END:VEVENT
BEGIN:VEVENT
DTSTART;TZID=UTC:20240625T090000
DTEND;TZID=UTC:20240625T120000
DTSTAMP:20260423T184830
CREATED:20240120T193349Z
LAST-MODIFIED:20240120T194733Z
UID:10005534-1719306000-1719316800@mission-accomplished.org
SUMMARY:Violet Keepsafe Storage
DESCRIPTION:
URL:https://mission-accomplished.org/event/violet-keepsafe-storage/2024-06-25/
LOCATION:Violet Keepsafe Storage\, 700 E 7th St\, Austin\, 78701\, United States
CATEGORIES:Operation Clean Clothes
ATTACH;FMTTYPE=image/png:https://mission-accomplished.org/wp-content/uploads/2023/12/2.png
END:VEVENT
BEGIN:VEVENT
DTSTART;TZID=UTC:20240624T090000
DTEND;TZID=UTC:20240624T120000
DTSTAMP:20260423T184830
CREATED:20240120T193046Z
LAST-MODIFIED:20240120T194806Z
UID:10005272-1719219600-1719230400@mission-accomplished.org
SUMMARY:Sunrise Homeless Navigation Center
DESCRIPTION:
URL:https://mission-accomplished.org/event/sunrise-homeless-navigation-center/2024-06-24/
LOCATION:Sunrise Homeless Navigation Center\, 4430 Menchaca Rd\, Austin\, 78745\, United States
CATEGORIES:Operation Clean Clothes
ATTACH;FMTTYPE=image/png:https://mission-accomplished.org/wp-content/uploads/2023/12/1.png
END:VEVENT
BEGIN:VEVENT
DTSTART;TZID=UTC:20240622T090000
DTEND;TZID=UTC:20240622T133000
DTSTAMP:20260423T184830
CREATED:20240120T193901Z
LAST-MODIFIED:20240120T194811Z
UID:10005633-1719046800-1719063000@mission-accomplished.org
SUMMARY:(TOOF) The Other Ones Foundation
DESCRIPTION:
URL:https://mission-accomplished.org/event/toof-the-other-ones-foundation/2024-06-22/
LOCATION:The Other Ones Foundation (TOOF)\, 780 S Hwy 183\, Austin\, 78741\, United States
CATEGORIES:Operation Clean Clothes
ATTACH;FMTTYPE=image/png:https://mission-accomplished.org/wp-content/uploads/2023/12/4.png
END:VEVENT
BEGIN:VEVENT
DTSTART;TZID=UTC:20240621T090000
DTEND;TZID=UTC:20240621T133000
DTSTAMP:20260423T184830
CREATED:20240120T193901Z
LAST-MODIFIED:20240120T194811Z
UID:10005632-1718960400-1718976600@mission-accomplished.org
SUMMARY:(TOOF) The Other Ones Foundation
DESCRIPTION:
URL:https://mission-accomplished.org/event/toof-the-other-ones-foundation/2024-06-21/
LOCATION:The Other Ones Foundation (TOOF)\, 780 S Hwy 183\, Austin\, 78741\, United States
CATEGORIES:Operation Clean Clothes
ATTACH;FMTTYPE=image/png:https://mission-accomplished.org/wp-content/uploads/2023/12/4.png
END:VEVENT
BEGIN:VEVENT
DTSTART;TZID=UTC:20240619T090000
DTEND;TZID=UTC:20240619T133000
DTSTAMP:20260423T184830
CREATED:20240120T193901Z
LAST-MODIFIED:20240120T194811Z
UID:10005631-1718787600-1718803800@mission-accomplished.org
SUMMARY:(TOOF) The Other Ones Foundation
DESCRIPTION:
URL:https://mission-accomplished.org/event/toof-the-other-ones-foundation/2024-06-19/
LOCATION:The Other Ones Foundation (TOOF)\, 780 S Hwy 183\, Austin\, 78741\, United States
CATEGORIES:Operation Clean Clothes
ATTACH;FMTTYPE=image/png:https://mission-accomplished.org/wp-content/uploads/2023/12/4.png
END:VEVENT
BEGIN:VEVENT
DTSTART;TZID=UTC:20240618T090000
DTEND;TZID=UTC:20240618T120000
DTSTAMP:20260423T184830
CREATED:20240120T193349Z
LAST-MODIFIED:20240120T194733Z
UID:10005533-1718701200-1718712000@mission-accomplished.org
SUMMARY:Violet Keepsafe Storage
DESCRIPTION:
URL:https://mission-accomplished.org/event/violet-keepsafe-storage/2024-06-18/
LOCATION:Violet Keepsafe Storage\, 700 E 7th St\, Austin\, 78701\, United States
CATEGORIES:Operation Clean Clothes
ATTACH;FMTTYPE=image/png:https://mission-accomplished.org/wp-content/uploads/2023/12/2.png
END:VEVENT
BEGIN:VEVENT
DTSTART;TZID=UTC:20240617T090000
DTEND;TZID=UTC:20240617T120000
DTSTAMP:20260423T184830
CREATED:20240120T193046Z
LAST-MODIFIED:20240120T194806Z
UID:10005271-1718614800-1718625600@mission-accomplished.org
SUMMARY:Sunrise Homeless Navigation Center
DESCRIPTION:
URL:https://mission-accomplished.org/event/sunrise-homeless-navigation-center/2024-06-17/
LOCATION:Sunrise Homeless Navigation Center\, 4430 Menchaca Rd\, Austin\, 78745\, United States
CATEGORIES:Operation Clean Clothes
ATTACH;FMTTYPE=image/png:https://mission-accomplished.org/wp-content/uploads/2023/12/1.png
END:VEVENT
BEGIN:VEVENT
DTSTART;TZID=UTC:20240615T090000
DTEND;TZID=UTC:20240615T133000
DTSTAMP:20260423T184830
CREATED:20240120T193901Z
LAST-MODIFIED:20240120T194811Z
UID:10005630-1718442000-1718458200@mission-accomplished.org
SUMMARY:(TOOF) The Other Ones Foundation
DESCRIPTION:
URL:https://mission-accomplished.org/event/toof-the-other-ones-foundation/2024-06-15/
LOCATION:The Other Ones Foundation (TOOF)\, 780 S Hwy 183\, Austin\, 78741\, United States
CATEGORIES:Operation Clean Clothes
ATTACH;FMTTYPE=image/png:https://mission-accomplished.org/wp-content/uploads/2023/12/4.png
END:VEVENT
END:VCALENDAR