BEGIN:VCALENDAR
VERSION:2.0
PRODID:-//Mission Accomplished - ECPv6.15.20//NONSGML v1.0//EN
CALSCALE:GREGORIAN
METHOD:PUBLISH
X-WR-CALNAME:Mission Accomplished
X-ORIGINAL-URL:https://mission-accomplished.org
X-WR-CALDESC:Events for Mission Accomplished
REFRESH-INTERVAL;VALUE=DURATION:PT1H
X-Robots-Tag:noindex
X-PUBLISHED-TTL:PT1H
BEGIN:VTIMEZONE
TZID:UTC
BEGIN:STANDARD
TZOFFSETFROM:+0000
TZOFFSETTO:+0000
TZNAME:UTC
DTSTART:20230101T000000
END:STANDARD
END:VTIMEZONE
BEGIN:VEVENT
DTSTART;TZID=UTC:20240521T090000
DTEND;TZID=UTC:20240521T120000
DTSTAMP:20260424T000745
CREATED:20240120T193349Z
LAST-MODIFIED:20240120T194733Z
UID:10005529-1716282000-1716292800@mission-accomplished.org
SUMMARY:Violet Keepsafe Storage
DESCRIPTION:
URL:https://mission-accomplished.org/event/violet-keepsafe-storage/2024-05-21/
LOCATION:Violet Keepsafe Storage\, 700 E 7th St\, Austin\, 78701\, United States
CATEGORIES:Operation Clean Clothes
ATTACH;FMTTYPE=image/png:https://mission-accomplished.org/wp-content/uploads/2023/12/2.png
END:VEVENT
BEGIN:VEVENT
DTSTART;TZID=UTC:20240520T090000
DTEND;TZID=UTC:20240520T120000
DTSTAMP:20260424T000745
CREATED:20240120T193046Z
LAST-MODIFIED:20240120T194806Z
UID:10005267-1716195600-1716206400@mission-accomplished.org
SUMMARY:Sunrise Homeless Navigation Center
DESCRIPTION:
URL:https://mission-accomplished.org/event/sunrise-homeless-navigation-center/2024-05-20/
LOCATION:Sunrise Homeless Navigation Center\, 4430 Menchaca Rd\, Austin\, 78745\, United States
CATEGORIES:Operation Clean Clothes
ATTACH;FMTTYPE=image/png:https://mission-accomplished.org/wp-content/uploads/2023/12/1.png
END:VEVENT
BEGIN:VEVENT
DTSTART;TZID=UTC:20240518T090000
DTEND;TZID=UTC:20240518T133000
DTSTAMP:20260424T000745
CREATED:20240120T193901Z
LAST-MODIFIED:20240120T194811Z
UID:10005618-1716022800-1716039000@mission-accomplished.org
SUMMARY:(TOOF) The Other Ones Foundation
DESCRIPTION:
URL:https://mission-accomplished.org/event/toof-the-other-ones-foundation/2024-05-18/
LOCATION:The Other Ones Foundation (TOOF)\, 780 S Hwy 183\, Austin\, 78741\, United States
CATEGORIES:Operation Clean Clothes
ATTACH;FMTTYPE=image/png:https://mission-accomplished.org/wp-content/uploads/2023/12/4.png
END:VEVENT
BEGIN:VEVENT
DTSTART;TZID=UTC:20240517T090000
DTEND;TZID=UTC:20240517T133000
DTSTAMP:20260424T000745
CREATED:20240120T193901Z
LAST-MODIFIED:20240120T194811Z
UID:10005617-1715936400-1715952600@mission-accomplished.org
SUMMARY:(TOOF) The Other Ones Foundation
DESCRIPTION:
URL:https://mission-accomplished.org/event/toof-the-other-ones-foundation/2024-05-17/
LOCATION:The Other Ones Foundation (TOOF)\, 780 S Hwy 183\, Austin\, 78741\, United States
CATEGORIES:Operation Clean Clothes
ATTACH;FMTTYPE=image/png:https://mission-accomplished.org/wp-content/uploads/2023/12/4.png
END:VEVENT
BEGIN:VEVENT
DTSTART;TZID=UTC:20240515T090000
DTEND;TZID=UTC:20240515T133000
DTSTAMP:20260424T000745
CREATED:20240120T193901Z
LAST-MODIFIED:20240120T194811Z
UID:10005616-1715763600-1715779800@mission-accomplished.org
SUMMARY:(TOOF) The Other Ones Foundation
DESCRIPTION:
URL:https://mission-accomplished.org/event/toof-the-other-ones-foundation/2024-05-15/
LOCATION:The Other Ones Foundation (TOOF)\, 780 S Hwy 183\, Austin\, 78741\, United States
CATEGORIES:Operation Clean Clothes
ATTACH;FMTTYPE=image/png:https://mission-accomplished.org/wp-content/uploads/2023/12/4.png
END:VEVENT
BEGIN:VEVENT
DTSTART;TZID=UTC:20240514T090000
DTEND;TZID=UTC:20240514T120000
DTSTAMP:20260424T000745
CREATED:20240120T193349Z
LAST-MODIFIED:20240120T194733Z
UID:10005528-1715677200-1715688000@mission-accomplished.org
SUMMARY:Violet Keepsafe Storage
DESCRIPTION:
URL:https://mission-accomplished.org/event/violet-keepsafe-storage/2024-05-14/
LOCATION:Violet Keepsafe Storage\, 700 E 7th St\, Austin\, 78701\, United States
CATEGORIES:Operation Clean Clothes
ATTACH;FMTTYPE=image/png:https://mission-accomplished.org/wp-content/uploads/2023/12/2.png
END:VEVENT
BEGIN:VEVENT
DTSTART;TZID=UTC:20240513T090000
DTEND;TZID=UTC:20240513T120000
DTSTAMP:20260424T000745
CREATED:20240120T193046Z
LAST-MODIFIED:20240120T194806Z
UID:10005266-1715590800-1715601600@mission-accomplished.org
SUMMARY:Sunrise Homeless Navigation Center
DESCRIPTION:
URL:https://mission-accomplished.org/event/sunrise-homeless-navigation-center/2024-05-13/
LOCATION:Sunrise Homeless Navigation Center\, 4430 Menchaca Rd\, Austin\, 78745\, United States
CATEGORIES:Operation Clean Clothes
ATTACH;FMTTYPE=image/png:https://mission-accomplished.org/wp-content/uploads/2023/12/1.png
END:VEVENT
BEGIN:VEVENT
DTSTART;TZID=UTC:20240511T090000
DTEND;TZID=UTC:20240511T133000
DTSTAMP:20260424T000745
CREATED:20240120T193901Z
LAST-MODIFIED:20240120T194811Z
UID:10005615-1715418000-1715434200@mission-accomplished.org
SUMMARY:(TOOF) The Other Ones Foundation
DESCRIPTION:
URL:https://mission-accomplished.org/event/toof-the-other-ones-foundation/2024-05-11/
LOCATION:The Other Ones Foundation (TOOF)\, 780 S Hwy 183\, Austin\, 78741\, United States
CATEGORIES:Operation Clean Clothes
ATTACH;FMTTYPE=image/png:https://mission-accomplished.org/wp-content/uploads/2023/12/4.png
END:VEVENT
BEGIN:VEVENT
DTSTART;TZID=UTC:20240510T090000
DTEND;TZID=UTC:20240510T133000
DTSTAMP:20260424T000745
CREATED:20240120T193901Z
LAST-MODIFIED:20240120T194811Z
UID:10005614-1715331600-1715347800@mission-accomplished.org
SUMMARY:(TOOF) The Other Ones Foundation
DESCRIPTION:
URL:https://mission-accomplished.org/event/toof-the-other-ones-foundation/2024-05-10/
LOCATION:The Other Ones Foundation (TOOF)\, 780 S Hwy 183\, Austin\, 78741\, United States
CATEGORIES:Operation Clean Clothes
ATTACH;FMTTYPE=image/png:https://mission-accomplished.org/wp-content/uploads/2023/12/4.png
END:VEVENT
BEGIN:VEVENT
DTSTART;TZID=UTC:20240508T090000
DTEND;TZID=UTC:20240508T133000
DTSTAMP:20260424T000745
CREATED:20240120T193901Z
LAST-MODIFIED:20240120T194811Z
UID:10005613-1715158800-1715175000@mission-accomplished.org
SUMMARY:(TOOF) The Other Ones Foundation
DESCRIPTION:
URL:https://mission-accomplished.org/event/toof-the-other-ones-foundation/2024-05-08/
LOCATION:The Other Ones Foundation (TOOF)\, 780 S Hwy 183\, Austin\, 78741\, United States
CATEGORIES:Operation Clean Clothes
ATTACH;FMTTYPE=image/png:https://mission-accomplished.org/wp-content/uploads/2023/12/4.png
END:VEVENT
BEGIN:VEVENT
DTSTART;TZID=UTC:20240507T090000
DTEND;TZID=UTC:20240507T120000
DTSTAMP:20260424T000745
CREATED:20240120T193349Z
LAST-MODIFIED:20240120T194733Z
UID:10005527-1715072400-1715083200@mission-accomplished.org
SUMMARY:Violet Keepsafe Storage
DESCRIPTION:
URL:https://mission-accomplished.org/event/violet-keepsafe-storage/2024-05-07/
LOCATION:Violet Keepsafe Storage\, 700 E 7th St\, Austin\, 78701\, United States
CATEGORIES:Operation Clean Clothes
ATTACH;FMTTYPE=image/png:https://mission-accomplished.org/wp-content/uploads/2023/12/2.png
END:VEVENT
BEGIN:VEVENT
DTSTART;TZID=UTC:20240506T090000
DTEND;TZID=UTC:20240506T120000
DTSTAMP:20260424T000745
CREATED:20240120T193046Z
LAST-MODIFIED:20240120T194806Z
UID:10005265-1714986000-1714996800@mission-accomplished.org
SUMMARY:Sunrise Homeless Navigation Center
DESCRIPTION:
URL:https://mission-accomplished.org/event/sunrise-homeless-navigation-center/2024-05-06/
LOCATION:Sunrise Homeless Navigation Center\, 4430 Menchaca Rd\, Austin\, 78745\, United States
CATEGORIES:Operation Clean Clothes
ATTACH;FMTTYPE=image/png:https://mission-accomplished.org/wp-content/uploads/2023/12/1.png
END:VEVENT
BEGIN:VEVENT
DTSTART;TZID=UTC:20240504T090000
DTEND;TZID=UTC:20240504T133000
DTSTAMP:20260424T000745
CREATED:20240120T193901Z
LAST-MODIFIED:20240120T194811Z
UID:10005612-1714813200-1714829400@mission-accomplished.org
SUMMARY:(TOOF) The Other Ones Foundation
DESCRIPTION:
URL:https://mission-accomplished.org/event/toof-the-other-ones-foundation/2024-05-04/
LOCATION:The Other Ones Foundation (TOOF)\, 780 S Hwy 183\, Austin\, 78741\, United States
CATEGORIES:Operation Clean Clothes
ATTACH;FMTTYPE=image/png:https://mission-accomplished.org/wp-content/uploads/2023/12/4.png
END:VEVENT
BEGIN:VEVENT
DTSTART;TZID=UTC:20240503T090000
DTEND;TZID=UTC:20240503T133000
DTSTAMP:20260424T000745
CREATED:20240120T193901Z
LAST-MODIFIED:20240120T194811Z
UID:10005611-1714726800-1714743000@mission-accomplished.org
SUMMARY:(TOOF) The Other Ones Foundation
DESCRIPTION:
URL:https://mission-accomplished.org/event/toof-the-other-ones-foundation/2024-05-03/
LOCATION:The Other Ones Foundation (TOOF)\, 780 S Hwy 183\, Austin\, 78741\, United States
CATEGORIES:Operation Clean Clothes
ATTACH;FMTTYPE=image/png:https://mission-accomplished.org/wp-content/uploads/2023/12/4.png
END:VEVENT
BEGIN:VEVENT
DTSTART;TZID=UTC:20240501T090000
DTEND;TZID=UTC:20240501T133000
DTSTAMP:20260424T000745
CREATED:20240120T193901Z
LAST-MODIFIED:20240120T194811Z
UID:10005610-1714554000-1714570200@mission-accomplished.org
SUMMARY:(TOOF) The Other Ones Foundation
DESCRIPTION:
URL:https://mission-accomplished.org/event/toof-the-other-ones-foundation/2024-05-01/
LOCATION:The Other Ones Foundation (TOOF)\, 780 S Hwy 183\, Austin\, 78741\, United States
CATEGORIES:Operation Clean Clothes
ATTACH;FMTTYPE=image/png:https://mission-accomplished.org/wp-content/uploads/2023/12/4.png
END:VEVENT
BEGIN:VEVENT
DTSTART;TZID=UTC:20240430T090000
DTEND;TZID=UTC:20240430T120000
DTSTAMP:20260424T000745
CREATED:20240120T193349Z
LAST-MODIFIED:20240120T194733Z
UID:10005526-1714467600-1714478400@mission-accomplished.org
SUMMARY:Violet Keepsafe Storage
DESCRIPTION:
URL:https://mission-accomplished.org/event/violet-keepsafe-storage/2024-04-30/
LOCATION:Violet Keepsafe Storage\, 700 E 7th St\, Austin\, 78701\, United States
CATEGORIES:Operation Clean Clothes
ATTACH;FMTTYPE=image/png:https://mission-accomplished.org/wp-content/uploads/2023/12/2.png
END:VEVENT
BEGIN:VEVENT
DTSTART;TZID=UTC:20240429T090000
DTEND;TZID=UTC:20240429T120000
DTSTAMP:20260424T000745
CREATED:20240120T193046Z
LAST-MODIFIED:20240120T194806Z
UID:10005264-1714381200-1714392000@mission-accomplished.org
SUMMARY:Sunrise Homeless Navigation Center
DESCRIPTION:
URL:https://mission-accomplished.org/event/sunrise-homeless-navigation-center/2024-04-29/
LOCATION:Sunrise Homeless Navigation Center\, 4430 Menchaca Rd\, Austin\, 78745\, United States
CATEGORIES:Operation Clean Clothes
ATTACH;FMTTYPE=image/png:https://mission-accomplished.org/wp-content/uploads/2023/12/1.png
END:VEVENT
BEGIN:VEVENT
DTSTART;TZID=UTC:20240427T090000
DTEND;TZID=UTC:20240427T133000
DTSTAMP:20260424T000745
CREATED:20240120T193901Z
LAST-MODIFIED:20240120T194811Z
UID:10005609-1714208400-1714224600@mission-accomplished.org
SUMMARY:(TOOF) The Other Ones Foundation
DESCRIPTION:
URL:https://mission-accomplished.org/event/toof-the-other-ones-foundation/2024-04-27/
LOCATION:The Other Ones Foundation (TOOF)\, 780 S Hwy 183\, Austin\, 78741\, United States
CATEGORIES:Operation Clean Clothes
ATTACH;FMTTYPE=image/png:https://mission-accomplished.org/wp-content/uploads/2023/12/4.png
END:VEVENT
BEGIN:VEVENT
DTSTART;TZID=UTC:20240426T090000
DTEND;TZID=UTC:20240426T133000
DTSTAMP:20260424T000745
CREATED:20240120T193901Z
LAST-MODIFIED:20240120T194811Z
UID:10005608-1714122000-1714138200@mission-accomplished.org
SUMMARY:(TOOF) The Other Ones Foundation
DESCRIPTION:
URL:https://mission-accomplished.org/event/toof-the-other-ones-foundation/2024-04-26/
LOCATION:The Other Ones Foundation (TOOF)\, 780 S Hwy 183\, Austin\, 78741\, United States
CATEGORIES:Operation Clean Clothes
ATTACH;FMTTYPE=image/png:https://mission-accomplished.org/wp-content/uploads/2023/12/4.png
END:VEVENT
BEGIN:VEVENT
DTSTART;TZID=UTC:20240424T090000
DTEND;TZID=UTC:20240424T133000
DTSTAMP:20260424T000745
CREATED:20240120T193901Z
LAST-MODIFIED:20240120T194811Z
UID:10005607-1713949200-1713965400@mission-accomplished.org
SUMMARY:(TOOF) The Other Ones Foundation
DESCRIPTION:
URL:https://mission-accomplished.org/event/toof-the-other-ones-foundation/2024-04-24/
LOCATION:The Other Ones Foundation (TOOF)\, 780 S Hwy 183\, Austin\, 78741\, United States
CATEGORIES:Operation Clean Clothes
ATTACH;FMTTYPE=image/png:https://mission-accomplished.org/wp-content/uploads/2023/12/4.png
END:VEVENT
BEGIN:VEVENT
DTSTART;TZID=UTC:20240423T090000
DTEND;TZID=UTC:20240423T120000
DTSTAMP:20260424T000745
CREATED:20240120T193349Z
LAST-MODIFIED:20240120T194733Z
UID:10005525-1713862800-1713873600@mission-accomplished.org
SUMMARY:Violet Keepsafe Storage
DESCRIPTION:
URL:https://mission-accomplished.org/event/violet-keepsafe-storage/2024-04-23/
LOCATION:Violet Keepsafe Storage\, 700 E 7th St\, Austin\, 78701\, United States
CATEGORIES:Operation Clean Clothes
ATTACH;FMTTYPE=image/png:https://mission-accomplished.org/wp-content/uploads/2023/12/2.png
END:VEVENT
BEGIN:VEVENT
DTSTART;TZID=UTC:20240422T090000
DTEND;TZID=UTC:20240422T120000
DTSTAMP:20260424T000745
CREATED:20240120T193046Z
LAST-MODIFIED:20240120T194806Z
UID:10005263-1713776400-1713787200@mission-accomplished.org
SUMMARY:Sunrise Homeless Navigation Center
DESCRIPTION:
URL:https://mission-accomplished.org/event/sunrise-homeless-navigation-center/2024-04-22/
LOCATION:Sunrise Homeless Navigation Center\, 4430 Menchaca Rd\, Austin\, 78745\, United States
CATEGORIES:Operation Clean Clothes
ATTACH;FMTTYPE=image/png:https://mission-accomplished.org/wp-content/uploads/2023/12/1.png
END:VEVENT
BEGIN:VEVENT
DTSTART;TZID=UTC:20240420T090000
DTEND;TZID=UTC:20240420T133000
DTSTAMP:20260424T000745
CREATED:20240120T193901Z
LAST-MODIFIED:20240120T194811Z
UID:10005606-1713603600-1713619800@mission-accomplished.org
SUMMARY:(TOOF) The Other Ones Foundation
DESCRIPTION:
URL:https://mission-accomplished.org/event/toof-the-other-ones-foundation/2024-04-20/
LOCATION:The Other Ones Foundation (TOOF)\, 780 S Hwy 183\, Austin\, 78741\, United States
CATEGORIES:Operation Clean Clothes
ATTACH;FMTTYPE=image/png:https://mission-accomplished.org/wp-content/uploads/2023/12/4.png
END:VEVENT
BEGIN:VEVENT
DTSTART;TZID=UTC:20240419T090000
DTEND;TZID=UTC:20240419T133000
DTSTAMP:20260424T000745
CREATED:20240120T193901Z
LAST-MODIFIED:20240120T194811Z
UID:10005605-1713517200-1713533400@mission-accomplished.org
SUMMARY:(TOOF) The Other Ones Foundation
DESCRIPTION:
URL:https://mission-accomplished.org/event/toof-the-other-ones-foundation/2024-04-19/
LOCATION:The Other Ones Foundation (TOOF)\, 780 S Hwy 183\, Austin\, 78741\, United States
CATEGORIES:Operation Clean Clothes
ATTACH;FMTTYPE=image/png:https://mission-accomplished.org/wp-content/uploads/2023/12/4.png
END:VEVENT
BEGIN:VEVENT
DTSTART;TZID=UTC:20240417T090000
DTEND;TZID=UTC:20240417T133000
DTSTAMP:20260424T000745
CREATED:20240120T193901Z
LAST-MODIFIED:20240120T194811Z
UID:10005604-1713344400-1713360600@mission-accomplished.org
SUMMARY:(TOOF) The Other Ones Foundation
DESCRIPTION:
URL:https://mission-accomplished.org/event/toof-the-other-ones-foundation/2024-04-17/
LOCATION:The Other Ones Foundation (TOOF)\, 780 S Hwy 183\, Austin\, 78741\, United States
CATEGORIES:Operation Clean Clothes
ATTACH;FMTTYPE=image/png:https://mission-accomplished.org/wp-content/uploads/2023/12/4.png
END:VEVENT
BEGIN:VEVENT
DTSTART;TZID=UTC:20240416T090000
DTEND;TZID=UTC:20240416T120000
DTSTAMP:20260424T000745
CREATED:20240120T193349Z
LAST-MODIFIED:20240120T194733Z
UID:10005524-1713258000-1713268800@mission-accomplished.org
SUMMARY:Violet Keepsafe Storage
DESCRIPTION:
URL:https://mission-accomplished.org/event/violet-keepsafe-storage/2024-04-16/
LOCATION:Violet Keepsafe Storage\, 700 E 7th St\, Austin\, 78701\, United States
CATEGORIES:Operation Clean Clothes
ATTACH;FMTTYPE=image/png:https://mission-accomplished.org/wp-content/uploads/2023/12/2.png
END:VEVENT
BEGIN:VEVENT
DTSTART;TZID=UTC:20240415T090000
DTEND;TZID=UTC:20240415T120000
DTSTAMP:20260424T000745
CREATED:20240120T193046Z
LAST-MODIFIED:20240120T194806Z
UID:10005262-1713171600-1713182400@mission-accomplished.org
SUMMARY:Sunrise Homeless Navigation Center
DESCRIPTION:
URL:https://mission-accomplished.org/event/sunrise-homeless-navigation-center/2024-04-15/
LOCATION:Sunrise Homeless Navigation Center\, 4430 Menchaca Rd\, Austin\, 78745\, United States
CATEGORIES:Operation Clean Clothes
ATTACH;FMTTYPE=image/png:https://mission-accomplished.org/wp-content/uploads/2023/12/1.png
END:VEVENT
BEGIN:VEVENT
DTSTART;TZID=UTC:20240413T090000
DTEND;TZID=UTC:20240413T133000
DTSTAMP:20260424T000745
CREATED:20240120T193901Z
LAST-MODIFIED:20240120T194811Z
UID:10005603-1712998800-1713015000@mission-accomplished.org
SUMMARY:(TOOF) The Other Ones Foundation
DESCRIPTION:
URL:https://mission-accomplished.org/event/toof-the-other-ones-foundation/2024-04-13/
LOCATION:The Other Ones Foundation (TOOF)\, 780 S Hwy 183\, Austin\, 78741\, United States
CATEGORIES:Operation Clean Clothes
ATTACH;FMTTYPE=image/png:https://mission-accomplished.org/wp-content/uploads/2023/12/4.png
END:VEVENT
BEGIN:VEVENT
DTSTART;TZID=UTC:20240412T090000
DTEND;TZID=UTC:20240412T133000
DTSTAMP:20260424T000745
CREATED:20240120T193901Z
LAST-MODIFIED:20240120T194811Z
UID:10005602-1712912400-1712928600@mission-accomplished.org
SUMMARY:(TOOF) The Other Ones Foundation
DESCRIPTION:
URL:https://mission-accomplished.org/event/toof-the-other-ones-foundation/2024-04-12/
LOCATION:The Other Ones Foundation (TOOF)\, 780 S Hwy 183\, Austin\, 78741\, United States
CATEGORIES:Operation Clean Clothes
ATTACH;FMTTYPE=image/png:https://mission-accomplished.org/wp-content/uploads/2023/12/4.png
END:VEVENT
BEGIN:VEVENT
DTSTART;TZID=UTC:20240410T090000
DTEND;TZID=UTC:20240410T133000
DTSTAMP:20260424T000745
CREATED:20240120T193901Z
LAST-MODIFIED:20240120T194811Z
UID:10005601-1712739600-1712755800@mission-accomplished.org
SUMMARY:(TOOF) The Other Ones Foundation
DESCRIPTION:
URL:https://mission-accomplished.org/event/toof-the-other-ones-foundation/2024-04-10/
LOCATION:The Other Ones Foundation (TOOF)\, 780 S Hwy 183\, Austin\, 78741\, United States
CATEGORIES:Operation Clean Clothes
ATTACH;FMTTYPE=image/png:https://mission-accomplished.org/wp-content/uploads/2023/12/4.png
END:VEVENT
END:VCALENDAR