BEGIN:VCALENDAR
VERSION:2.0
PRODID:-//Mission Accomplished - ECPv6.15.20//NONSGML v1.0//EN
CALSCALE:GREGORIAN
METHOD:PUBLISH
X-ORIGINAL-URL:https://mission-accomplished.org
X-WR-CALDESC:Events for Mission Accomplished
REFRESH-INTERVAL;VALUE=DURATION:PT1H
X-Robots-Tag:noindex
X-PUBLISHED-TTL:PT1H
BEGIN:VTIMEZONE
TZID:UTC
BEGIN:STANDARD
TZOFFSETFROM:+0000
TZOFFSETTO:+0000
TZNAME:UTC
DTSTART:20240101T000000
END:STANDARD
END:VTIMEZONE
BEGIN:VEVENT
DTSTART;TZID=UTC:20250714T090000
DTEND;TZID=UTC:20250714T120000
DTSTAMP:20260422T022857
CREATED:20240120T193046Z
LAST-MODIFIED:20240120T194806Z
UID:10005327-1752483600-1752494400@mission-accomplished.org
SUMMARY:Sunrise Homeless Navigation Center
DESCRIPTION:
URL:https://mission-accomplished.org/event/sunrise-homeless-navigation-center/2025-07-14/
LOCATION:Sunrise Homeless Navigation Center\, 4430 Menchaca Rd\, Austin\, 78745\, United States
CATEGORIES:Operation Clean Clothes
ATTACH;FMTTYPE=image/png:https://mission-accomplished.org/wp-content/uploads/2023/12/1.png
END:VEVENT
BEGIN:VEVENT
DTSTART;TZID=UTC:20250707T090000
DTEND;TZID=UTC:20250707T120000
DTSTAMP:20260422T022857
CREATED:20240120T193046Z
LAST-MODIFIED:20240120T194806Z
UID:10005326-1751878800-1751889600@mission-accomplished.org
SUMMARY:Sunrise Homeless Navigation Center
DESCRIPTION:
URL:https://mission-accomplished.org/event/sunrise-homeless-navigation-center/2025-07-07/
LOCATION:Sunrise Homeless Navigation Center\, 4430 Menchaca Rd\, Austin\, 78745\, United States
CATEGORIES:Operation Clean Clothes
ATTACH;FMTTYPE=image/png:https://mission-accomplished.org/wp-content/uploads/2023/12/1.png
END:VEVENT
BEGIN:VEVENT
DTSTART;TZID=UTC:20250630T090000
DTEND;TZID=UTC:20250630T120000
DTSTAMP:20260422T022857
CREATED:20240120T193046Z
LAST-MODIFIED:20240120T194806Z
UID:10005325-1751274000-1751284800@mission-accomplished.org
SUMMARY:Sunrise Homeless Navigation Center
DESCRIPTION:
URL:https://mission-accomplished.org/event/sunrise-homeless-navigation-center/2025-06-30/
LOCATION:Sunrise Homeless Navigation Center\, 4430 Menchaca Rd\, Austin\, 78745\, United States
CATEGORIES:Operation Clean Clothes
ATTACH;FMTTYPE=image/png:https://mission-accomplished.org/wp-content/uploads/2023/12/1.png
END:VEVENT
BEGIN:VEVENT
DTSTART;TZID=UTC:20250623T090000
DTEND;TZID=UTC:20250623T120000
DTSTAMP:20260422T022857
CREATED:20240120T193046Z
LAST-MODIFIED:20240120T194806Z
UID:10005324-1750669200-1750680000@mission-accomplished.org
SUMMARY:Sunrise Homeless Navigation Center
DESCRIPTION:
URL:https://mission-accomplished.org/event/sunrise-homeless-navigation-center/2025-06-23/
LOCATION:Sunrise Homeless Navigation Center\, 4430 Menchaca Rd\, Austin\, 78745\, United States
CATEGORIES:Operation Clean Clothes
ATTACH;FMTTYPE=image/png:https://mission-accomplished.org/wp-content/uploads/2023/12/1.png
END:VEVENT
BEGIN:VEVENT
DTSTART;TZID=UTC:20250616T090000
DTEND;TZID=UTC:20250616T120000
DTSTAMP:20260422T022857
CREATED:20240120T193046Z
LAST-MODIFIED:20240120T194806Z
UID:10005323-1750064400-1750075200@mission-accomplished.org
SUMMARY:Sunrise Homeless Navigation Center
DESCRIPTION:
URL:https://mission-accomplished.org/event/sunrise-homeless-navigation-center/2025-06-16/
LOCATION:Sunrise Homeless Navigation Center\, 4430 Menchaca Rd\, Austin\, 78745\, United States
CATEGORIES:Operation Clean Clothes
ATTACH;FMTTYPE=image/png:https://mission-accomplished.org/wp-content/uploads/2023/12/1.png
END:VEVENT
BEGIN:VEVENT
DTSTART;TZID=UTC:20250609T090000
DTEND;TZID=UTC:20250609T120000
DTSTAMP:20260422T022857
CREATED:20240120T193046Z
LAST-MODIFIED:20240120T194806Z
UID:10005322-1749459600-1749470400@mission-accomplished.org
SUMMARY:Sunrise Homeless Navigation Center
DESCRIPTION:
URL:https://mission-accomplished.org/event/sunrise-homeless-navigation-center/2025-06-09/
LOCATION:Sunrise Homeless Navigation Center\, 4430 Menchaca Rd\, Austin\, 78745\, United States
CATEGORIES:Operation Clean Clothes
ATTACH;FMTTYPE=image/png:https://mission-accomplished.org/wp-content/uploads/2023/12/1.png
END:VEVENT
BEGIN:VEVENT
DTSTART;TZID=UTC:20250602T090000
DTEND;TZID=UTC:20250602T120000
DTSTAMP:20260422T022857
CREATED:20240120T193046Z
LAST-MODIFIED:20240120T194806Z
UID:10005321-1748854800-1748865600@mission-accomplished.org
SUMMARY:Sunrise Homeless Navigation Center
DESCRIPTION:
URL:https://mission-accomplished.org/event/sunrise-homeless-navigation-center/2025-06-02/
LOCATION:Sunrise Homeless Navigation Center\, 4430 Menchaca Rd\, Austin\, 78745\, United States
CATEGORIES:Operation Clean Clothes
ATTACH;FMTTYPE=image/png:https://mission-accomplished.org/wp-content/uploads/2023/12/1.png
END:VEVENT
BEGIN:VEVENT
DTSTART;TZID=UTC:20250526T090000
DTEND;TZID=UTC:20250526T120000
DTSTAMP:20260422T022857
CREATED:20240120T193046Z
LAST-MODIFIED:20240120T194806Z
UID:10005320-1748250000-1748260800@mission-accomplished.org
SUMMARY:Sunrise Homeless Navigation Center
DESCRIPTION:
URL:https://mission-accomplished.org/event/sunrise-homeless-navigation-center/2025-05-26/
LOCATION:Sunrise Homeless Navigation Center\, 4430 Menchaca Rd\, Austin\, 78745\, United States
CATEGORIES:Operation Clean Clothes
ATTACH;FMTTYPE=image/png:https://mission-accomplished.org/wp-content/uploads/2023/12/1.png
END:VEVENT
BEGIN:VEVENT
DTSTART;TZID=UTC:20250519T090000
DTEND;TZID=UTC:20250519T120000
DTSTAMP:20260422T022857
CREATED:20240120T193046Z
LAST-MODIFIED:20240120T194806Z
UID:10005319-1747645200-1747656000@mission-accomplished.org
SUMMARY:Sunrise Homeless Navigation Center
DESCRIPTION:
URL:https://mission-accomplished.org/event/sunrise-homeless-navigation-center/2025-05-19/
LOCATION:Sunrise Homeless Navigation Center\, 4430 Menchaca Rd\, Austin\, 78745\, United States
CATEGORIES:Operation Clean Clothes
ATTACH;FMTTYPE=image/png:https://mission-accomplished.org/wp-content/uploads/2023/12/1.png
END:VEVENT
BEGIN:VEVENT
DTSTART;TZID=UTC:20250512T090000
DTEND;TZID=UTC:20250512T120000
DTSTAMP:20260422T022857
CREATED:20240120T193046Z
LAST-MODIFIED:20240120T194806Z
UID:10005318-1747040400-1747051200@mission-accomplished.org
SUMMARY:Sunrise Homeless Navigation Center
DESCRIPTION:
URL:https://mission-accomplished.org/event/sunrise-homeless-navigation-center/2025-05-12/
LOCATION:Sunrise Homeless Navigation Center\, 4430 Menchaca Rd\, Austin\, 78745\, United States
CATEGORIES:Operation Clean Clothes
ATTACH;FMTTYPE=image/png:https://mission-accomplished.org/wp-content/uploads/2023/12/1.png
END:VEVENT
BEGIN:VEVENT
DTSTART;TZID=UTC:20250505T090000
DTEND;TZID=UTC:20250505T120000
DTSTAMP:20260422T022857
CREATED:20240120T193046Z
LAST-MODIFIED:20240120T194806Z
UID:10005317-1746435600-1746446400@mission-accomplished.org
SUMMARY:Sunrise Homeless Navigation Center
DESCRIPTION:
URL:https://mission-accomplished.org/event/sunrise-homeless-navigation-center/2025-05-05/
LOCATION:Sunrise Homeless Navigation Center\, 4430 Menchaca Rd\, Austin\, 78745\, United States
CATEGORIES:Operation Clean Clothes
ATTACH;FMTTYPE=image/png:https://mission-accomplished.org/wp-content/uploads/2023/12/1.png
END:VEVENT
BEGIN:VEVENT
DTSTART;TZID=UTC:20250428T090000
DTEND;TZID=UTC:20250428T120000
DTSTAMP:20260422T022857
CREATED:20240120T193046Z
LAST-MODIFIED:20240120T194806Z
UID:10005316-1745830800-1745841600@mission-accomplished.org
SUMMARY:Sunrise Homeless Navigation Center
DESCRIPTION:
URL:https://mission-accomplished.org/event/sunrise-homeless-navigation-center/2025-04-28/
LOCATION:Sunrise Homeless Navigation Center\, 4430 Menchaca Rd\, Austin\, 78745\, United States
CATEGORIES:Operation Clean Clothes
ATTACH;FMTTYPE=image/png:https://mission-accomplished.org/wp-content/uploads/2023/12/1.png
END:VEVENT
BEGIN:VEVENT
DTSTART;TZID=UTC:20250421T090000
DTEND;TZID=UTC:20250421T120000
DTSTAMP:20260422T022857
CREATED:20240120T193046Z
LAST-MODIFIED:20240120T194806Z
UID:10005315-1745226000-1745236800@mission-accomplished.org
SUMMARY:Sunrise Homeless Navigation Center
DESCRIPTION:
URL:https://mission-accomplished.org/event/sunrise-homeless-navigation-center/2025-04-21/
LOCATION:Sunrise Homeless Navigation Center\, 4430 Menchaca Rd\, Austin\, 78745\, United States
CATEGORIES:Operation Clean Clothes
ATTACH;FMTTYPE=image/png:https://mission-accomplished.org/wp-content/uploads/2023/12/1.png
END:VEVENT
BEGIN:VEVENT
DTSTART;TZID=UTC:20250414T090000
DTEND;TZID=UTC:20250414T120000
DTSTAMP:20260422T022857
CREATED:20240120T193046Z
LAST-MODIFIED:20240120T194806Z
UID:10005314-1744621200-1744632000@mission-accomplished.org
SUMMARY:Sunrise Homeless Navigation Center
DESCRIPTION:
URL:https://mission-accomplished.org/event/sunrise-homeless-navigation-center/2025-04-14/
LOCATION:Sunrise Homeless Navigation Center\, 4430 Menchaca Rd\, Austin\, 78745\, United States
CATEGORIES:Operation Clean Clothes
ATTACH;FMTTYPE=image/png:https://mission-accomplished.org/wp-content/uploads/2023/12/1.png
END:VEVENT
BEGIN:VEVENT
DTSTART;TZID=UTC:20250407T090000
DTEND;TZID=UTC:20250407T120000
DTSTAMP:20260422T022857
CREATED:20240120T193046Z
LAST-MODIFIED:20240120T194806Z
UID:10005313-1744016400-1744027200@mission-accomplished.org
SUMMARY:Sunrise Homeless Navigation Center
DESCRIPTION:
URL:https://mission-accomplished.org/event/sunrise-homeless-navigation-center/2025-04-07/
LOCATION:Sunrise Homeless Navigation Center\, 4430 Menchaca Rd\, Austin\, 78745\, United States
CATEGORIES:Operation Clean Clothes
ATTACH;FMTTYPE=image/png:https://mission-accomplished.org/wp-content/uploads/2023/12/1.png
END:VEVENT
BEGIN:VEVENT
DTSTART;TZID=UTC:20250331T090000
DTEND;TZID=UTC:20250331T120000
DTSTAMP:20260422T022857
CREATED:20240120T193046Z
LAST-MODIFIED:20240120T194806Z
UID:10005312-1743411600-1743422400@mission-accomplished.org
SUMMARY:Sunrise Homeless Navigation Center
DESCRIPTION:
URL:https://mission-accomplished.org/event/sunrise-homeless-navigation-center/2025-03-31/
LOCATION:Sunrise Homeless Navigation Center\, 4430 Menchaca Rd\, Austin\, 78745\, United States
CATEGORIES:Operation Clean Clothes
ATTACH;FMTTYPE=image/png:https://mission-accomplished.org/wp-content/uploads/2023/12/1.png
END:VEVENT
BEGIN:VEVENT
DTSTART;TZID=UTC:20250324T090000
DTEND;TZID=UTC:20250324T120000
DTSTAMP:20260422T022857
CREATED:20240120T193046Z
LAST-MODIFIED:20240120T194806Z
UID:10005311-1742806800-1742817600@mission-accomplished.org
SUMMARY:Sunrise Homeless Navigation Center
DESCRIPTION:
URL:https://mission-accomplished.org/event/sunrise-homeless-navigation-center/2025-03-24/
LOCATION:Sunrise Homeless Navigation Center\, 4430 Menchaca Rd\, Austin\, 78745\, United States
CATEGORIES:Operation Clean Clothes
ATTACH;FMTTYPE=image/png:https://mission-accomplished.org/wp-content/uploads/2023/12/1.png
END:VEVENT
BEGIN:VEVENT
DTSTART;TZID=UTC:20250317T090000
DTEND;TZID=UTC:20250317T120000
DTSTAMP:20260422T022857
CREATED:20240120T193046Z
LAST-MODIFIED:20240120T194806Z
UID:10005310-1742202000-1742212800@mission-accomplished.org
SUMMARY:Sunrise Homeless Navigation Center
DESCRIPTION:
URL:https://mission-accomplished.org/event/sunrise-homeless-navigation-center/2025-03-17/
LOCATION:Sunrise Homeless Navigation Center\, 4430 Menchaca Rd\, Austin\, 78745\, United States
CATEGORIES:Operation Clean Clothes
ATTACH;FMTTYPE=image/png:https://mission-accomplished.org/wp-content/uploads/2023/12/1.png
END:VEVENT
BEGIN:VEVENT
DTSTART;TZID=UTC:20250310T090000
DTEND;TZID=UTC:20250310T120000
DTSTAMP:20260422T022857
CREATED:20240120T193046Z
LAST-MODIFIED:20240120T194806Z
UID:10005309-1741597200-1741608000@mission-accomplished.org
SUMMARY:Sunrise Homeless Navigation Center
DESCRIPTION:
URL:https://mission-accomplished.org/event/sunrise-homeless-navigation-center/2025-03-10/
LOCATION:Sunrise Homeless Navigation Center\, 4430 Menchaca Rd\, Austin\, 78745\, United States
CATEGORIES:Operation Clean Clothes
ATTACH;FMTTYPE=image/png:https://mission-accomplished.org/wp-content/uploads/2023/12/1.png
END:VEVENT
BEGIN:VEVENT
DTSTART;TZID=UTC:20250303T090000
DTEND;TZID=UTC:20250303T120000
DTSTAMP:20260422T022857
CREATED:20240120T193046Z
LAST-MODIFIED:20240120T194806Z
UID:10005308-1740992400-1741003200@mission-accomplished.org
SUMMARY:Sunrise Homeless Navigation Center
DESCRIPTION:
URL:https://mission-accomplished.org/event/sunrise-homeless-navigation-center/2025-03-03/
LOCATION:Sunrise Homeless Navigation Center\, 4430 Menchaca Rd\, Austin\, 78745\, United States
CATEGORIES:Operation Clean Clothes
ATTACH;FMTTYPE=image/png:https://mission-accomplished.org/wp-content/uploads/2023/12/1.png
END:VEVENT
BEGIN:VEVENT
DTSTART;TZID=UTC:20250224T090000
DTEND;TZID=UTC:20250224T120000
DTSTAMP:20260422T022857
CREATED:20240120T193046Z
LAST-MODIFIED:20240120T194806Z
UID:10005307-1740387600-1740398400@mission-accomplished.org
SUMMARY:Sunrise Homeless Navigation Center
DESCRIPTION:
URL:https://mission-accomplished.org/event/sunrise-homeless-navigation-center/2025-02-24/
LOCATION:Sunrise Homeless Navigation Center\, 4430 Menchaca Rd\, Austin\, 78745\, United States
CATEGORIES:Operation Clean Clothes
ATTACH;FMTTYPE=image/png:https://mission-accomplished.org/wp-content/uploads/2023/12/1.png
END:VEVENT
BEGIN:VEVENT
DTSTART;TZID=UTC:20250217T090000
DTEND;TZID=UTC:20250217T120000
DTSTAMP:20260422T022857
CREATED:20240120T193046Z
LAST-MODIFIED:20240120T194806Z
UID:10005306-1739782800-1739793600@mission-accomplished.org
SUMMARY:Sunrise Homeless Navigation Center
DESCRIPTION:
URL:https://mission-accomplished.org/event/sunrise-homeless-navigation-center/2025-02-17/
LOCATION:Sunrise Homeless Navigation Center\, 4430 Menchaca Rd\, Austin\, 78745\, United States
CATEGORIES:Operation Clean Clothes
ATTACH;FMTTYPE=image/png:https://mission-accomplished.org/wp-content/uploads/2023/12/1.png
END:VEVENT
BEGIN:VEVENT
DTSTART;TZID=UTC:20250210T090000
DTEND;TZID=UTC:20250210T120000
DTSTAMP:20260422T022857
CREATED:20240120T193046Z
LAST-MODIFIED:20240120T194806Z
UID:10005305-1739178000-1739188800@mission-accomplished.org
SUMMARY:Sunrise Homeless Navigation Center
DESCRIPTION:
URL:https://mission-accomplished.org/event/sunrise-homeless-navigation-center/2025-02-10/
LOCATION:Sunrise Homeless Navigation Center\, 4430 Menchaca Rd\, Austin\, 78745\, United States
CATEGORIES:Operation Clean Clothes
ATTACH;FMTTYPE=image/png:https://mission-accomplished.org/wp-content/uploads/2023/12/1.png
END:VEVENT
BEGIN:VEVENT
DTSTART;TZID=UTC:20250203T090000
DTEND;TZID=UTC:20250203T120000
DTSTAMP:20260422T022857
CREATED:20240120T193046Z
LAST-MODIFIED:20240120T194806Z
UID:10005304-1738573200-1738584000@mission-accomplished.org
SUMMARY:Sunrise Homeless Navigation Center
DESCRIPTION:
URL:https://mission-accomplished.org/event/sunrise-homeless-navigation-center/2025-02-03/
LOCATION:Sunrise Homeless Navigation Center\, 4430 Menchaca Rd\, Austin\, 78745\, United States
CATEGORIES:Operation Clean Clothes
ATTACH;FMTTYPE=image/png:https://mission-accomplished.org/wp-content/uploads/2023/12/1.png
END:VEVENT
BEGIN:VEVENT
DTSTART;TZID=UTC:20250127T090000
DTEND;TZID=UTC:20250127T120000
DTSTAMP:20260422T022857
CREATED:20240120T193046Z
LAST-MODIFIED:20240120T194806Z
UID:10005303-1737968400-1737979200@mission-accomplished.org
SUMMARY:Sunrise Homeless Navigation Center
DESCRIPTION:
URL:https://mission-accomplished.org/event/sunrise-homeless-navigation-center/2025-01-27/
LOCATION:Sunrise Homeless Navigation Center\, 4430 Menchaca Rd\, Austin\, 78745\, United States
CATEGORIES:Operation Clean Clothes
ATTACH;FMTTYPE=image/png:https://mission-accomplished.org/wp-content/uploads/2023/12/1.png
END:VEVENT
BEGIN:VEVENT
DTSTART;TZID=UTC:20250121T090000
DTEND;TZID=UTC:20250121T120000
DTSTAMP:20260422T022857
CREATED:20240120T193349Z
LAST-MODIFIED:20240120T194733Z
UID:10005564-1737450000-1737460800@mission-accomplished.org
SUMMARY:Violet Keepsafe Storage
DESCRIPTION:
URL:https://mission-accomplished.org/event/violet-keepsafe-storage/2025-01-21/
LOCATION:Violet Keepsafe Storage\, 700 E 7th St\, Austin\, 78701\, United States
CATEGORIES:Operation Clean Clothes
ATTACH;FMTTYPE=image/png:https://mission-accomplished.org/wp-content/uploads/2023/12/2.png
END:VEVENT
BEGIN:VEVENT
DTSTART;TZID=UTC:20250120T090000
DTEND;TZID=UTC:20250120T120000
DTSTAMP:20260422T022857
CREATED:20240120T193046Z
LAST-MODIFIED:20240120T194806Z
UID:10005302-1737363600-1737374400@mission-accomplished.org
SUMMARY:Sunrise Homeless Navigation Center
DESCRIPTION:
URL:https://mission-accomplished.org/event/sunrise-homeless-navigation-center/2025-01-20/
LOCATION:Sunrise Homeless Navigation Center\, 4430 Menchaca Rd\, Austin\, 78745\, United States
CATEGORIES:Operation Clean Clothes
ATTACH;FMTTYPE=image/png:https://mission-accomplished.org/wp-content/uploads/2023/12/1.png
END:VEVENT
BEGIN:VEVENT
DTSTART;TZID=UTC:20250117T090000
DTEND;TZID=UTC:20250117T133000
DTSTAMP:20260422T022857
CREATED:20240120T193901Z
LAST-MODIFIED:20240120T194811Z
UID:10005722-1737104400-1737120600@mission-accomplished.org
SUMMARY:(TOOF) The Other Ones Foundation
DESCRIPTION:
URL:https://mission-accomplished.org/event/toof-the-other-ones-foundation/2025-01-17/
LOCATION:The Other Ones Foundation (TOOF)\, 780 S Hwy 183\, Austin\, 78741\, United States
CATEGORIES:Operation Clean Clothes
ATTACH;FMTTYPE=image/png:https://mission-accomplished.org/wp-content/uploads/2023/12/4.png
END:VEVENT
BEGIN:VEVENT
DTSTART;TZID=UTC:20250115T090000
DTEND;TZID=UTC:20250115T133000
DTSTAMP:20260422T022857
CREATED:20240120T193901Z
LAST-MODIFIED:20240120T194811Z
UID:10005721-1736931600-1736947800@mission-accomplished.org
SUMMARY:(TOOF) The Other Ones Foundation
DESCRIPTION:
URL:https://mission-accomplished.org/event/toof-the-other-ones-foundation/2025-01-15/
LOCATION:The Other Ones Foundation (TOOF)\, 780 S Hwy 183\, Austin\, 78741\, United States
CATEGORIES:Operation Clean Clothes
ATTACH;FMTTYPE=image/png:https://mission-accomplished.org/wp-content/uploads/2023/12/4.png
END:VEVENT
BEGIN:VEVENT
DTSTART;TZID=UTC:20250114T090000
DTEND;TZID=UTC:20250114T120000
DTSTAMP:20260422T022857
CREATED:20240120T193349Z
LAST-MODIFIED:20240120T194733Z
UID:10005563-1736845200-1736856000@mission-accomplished.org
SUMMARY:Violet Keepsafe Storage
DESCRIPTION:
URL:https://mission-accomplished.org/event/violet-keepsafe-storage/2025-01-14/
LOCATION:Violet Keepsafe Storage\, 700 E 7th St\, Austin\, 78701\, United States
CATEGORIES:Operation Clean Clothes
ATTACH;FMTTYPE=image/png:https://mission-accomplished.org/wp-content/uploads/2023/12/2.png
END:VEVENT
END:VCALENDAR