BEGIN:VCALENDAR
VERSION:2.0
PRODID:-//Mission Accomplished - ECPv6.15.20//NONSGML v1.0//EN
CALSCALE:GREGORIAN
METHOD:PUBLISH
X-ORIGINAL-URL:https://mission-accomplished.org
X-WR-CALDESC:Events for Mission Accomplished
REFRESH-INTERVAL;VALUE=DURATION:PT1H
X-Robots-Tag:noindex
X-PUBLISHED-TTL:PT1H
BEGIN:VTIMEZONE
TZID:UTC
BEGIN:STANDARD
TZOFFSETFROM:+0000
TZOFFSETTO:+0000
TZNAME:UTC
DTSTART:20270101T000000
END:STANDARD
END:VTIMEZONE
BEGIN:VEVENT
DTSTART;TZID=UTC:20280228T090000
DTEND;TZID=UTC:20280228T120000
DTSTAMP:20260422T221207
CREATED:20240120T193046Z
LAST-MODIFIED:20240120T194806Z
UID:10005464-1835341200-1835352000@mission-accomplished.org
SUMMARY:Sunrise Homeless Navigation Center
DESCRIPTION:
URL:https://mission-accomplished.org/event/sunrise-homeless-navigation-center/2028-02-28/
LOCATION:Sunrise Homeless Navigation Center\, 4430 Menchaca Rd\, Austin\, 78745\, United States
CATEGORIES:Operation Clean Clothes
ATTACH;FMTTYPE=image/png:https://mission-accomplished.org/wp-content/uploads/2023/12/1.png
END:VEVENT
BEGIN:VEVENT
DTSTART;TZID=UTC:20280306T090000
DTEND;TZID=UTC:20280306T120000
DTSTAMP:20260422T221207
CREATED:20240120T193046Z
LAST-MODIFIED:20240120T194806Z
UID:10005465-1835946000-1835956800@mission-accomplished.org
SUMMARY:Sunrise Homeless Navigation Center
DESCRIPTION:
URL:https://mission-accomplished.org/event/sunrise-homeless-navigation-center/2028-03-06/
LOCATION:Sunrise Homeless Navigation Center\, 4430 Menchaca Rd\, Austin\, 78745\, United States
CATEGORIES:Operation Clean Clothes
ATTACH;FMTTYPE=image/png:https://mission-accomplished.org/wp-content/uploads/2023/12/1.png
END:VEVENT
BEGIN:VEVENT
DTSTART;TZID=UTC:20280313T090000
DTEND;TZID=UTC:20280313T120000
DTSTAMP:20260422T221207
CREATED:20240120T193046Z
LAST-MODIFIED:20240120T194806Z
UID:10005466-1836550800-1836561600@mission-accomplished.org
SUMMARY:Sunrise Homeless Navigation Center
DESCRIPTION:
URL:https://mission-accomplished.org/event/sunrise-homeless-navigation-center/2028-03-13/
LOCATION:Sunrise Homeless Navigation Center\, 4430 Menchaca Rd\, Austin\, 78745\, United States
CATEGORIES:Operation Clean Clothes
ATTACH;FMTTYPE=image/png:https://mission-accomplished.org/wp-content/uploads/2023/12/1.png
END:VEVENT
BEGIN:VEVENT
DTSTART;TZID=UTC:20280320T090000
DTEND;TZID=UTC:20280320T120000
DTSTAMP:20260422T221207
CREATED:20240120T193046Z
LAST-MODIFIED:20240120T194806Z
UID:10005467-1837155600-1837166400@mission-accomplished.org
SUMMARY:Sunrise Homeless Navigation Center
DESCRIPTION:
URL:https://mission-accomplished.org/event/sunrise-homeless-navigation-center/2028-03-20/
LOCATION:Sunrise Homeless Navigation Center\, 4430 Menchaca Rd\, Austin\, 78745\, United States
CATEGORIES:Operation Clean Clothes
ATTACH;FMTTYPE=image/png:https://mission-accomplished.org/wp-content/uploads/2023/12/1.png
END:VEVENT
BEGIN:VEVENT
DTSTART;TZID=UTC:20280327T090000
DTEND;TZID=UTC:20280327T120000
DTSTAMP:20260422T221207
CREATED:20240120T193046Z
LAST-MODIFIED:20240120T194806Z
UID:10005468-1837760400-1837771200@mission-accomplished.org
SUMMARY:Sunrise Homeless Navigation Center
DESCRIPTION:
URL:https://mission-accomplished.org/event/sunrise-homeless-navigation-center/2028-03-27/
LOCATION:Sunrise Homeless Navigation Center\, 4430 Menchaca Rd\, Austin\, 78745\, United States
CATEGORIES:Operation Clean Clothes
ATTACH;FMTTYPE=image/png:https://mission-accomplished.org/wp-content/uploads/2023/12/1.png
END:VEVENT
BEGIN:VEVENT
DTSTART;TZID=UTC:20280403T090000
DTEND;TZID=UTC:20280403T120000
DTSTAMP:20260422T221207
CREATED:20240120T193046Z
LAST-MODIFIED:20240120T194806Z
UID:10005469-1838365200-1838376000@mission-accomplished.org
SUMMARY:Sunrise Homeless Navigation Center
DESCRIPTION:
URL:https://mission-accomplished.org/event/sunrise-homeless-navigation-center/2028-04-03/
LOCATION:Sunrise Homeless Navigation Center\, 4430 Menchaca Rd\, Austin\, 78745\, United States
CATEGORIES:Operation Clean Clothes
ATTACH;FMTTYPE=image/png:https://mission-accomplished.org/wp-content/uploads/2023/12/1.png
END:VEVENT
BEGIN:VEVENT
DTSTART;TZID=UTC:20280410T090000
DTEND;TZID=UTC:20280410T120000
DTSTAMP:20260422T221207
CREATED:20240120T193046Z
LAST-MODIFIED:20240120T194806Z
UID:10005470-1838970000-1838980800@mission-accomplished.org
SUMMARY:Sunrise Homeless Navigation Center
DESCRIPTION:
URL:https://mission-accomplished.org/event/sunrise-homeless-navigation-center/2028-04-10/
LOCATION:Sunrise Homeless Navigation Center\, 4430 Menchaca Rd\, Austin\, 78745\, United States
CATEGORIES:Operation Clean Clothes
ATTACH;FMTTYPE=image/png:https://mission-accomplished.org/wp-content/uploads/2023/12/1.png
END:VEVENT
BEGIN:VEVENT
DTSTART;TZID=UTC:20280417T090000
DTEND;TZID=UTC:20280417T120000
DTSTAMP:20260422T221207
CREATED:20240120T193046Z
LAST-MODIFIED:20240120T194806Z
UID:10005471-1839574800-1839585600@mission-accomplished.org
SUMMARY:Sunrise Homeless Navigation Center
DESCRIPTION:
URL:https://mission-accomplished.org/event/sunrise-homeless-navigation-center/2028-04-17/
LOCATION:Sunrise Homeless Navigation Center\, 4430 Menchaca Rd\, Austin\, 78745\, United States
CATEGORIES:Operation Clean Clothes
ATTACH;FMTTYPE=image/png:https://mission-accomplished.org/wp-content/uploads/2023/12/1.png
END:VEVENT
BEGIN:VEVENT
DTSTART;TZID=UTC:20280424T090000
DTEND;TZID=UTC:20280424T120000
DTSTAMP:20260422T221207
CREATED:20240120T193046Z
LAST-MODIFIED:20240120T194806Z
UID:10005472-1840179600-1840190400@mission-accomplished.org
SUMMARY:Sunrise Homeless Navigation Center
DESCRIPTION:
URL:https://mission-accomplished.org/event/sunrise-homeless-navigation-center/2028-04-24/
LOCATION:Sunrise Homeless Navigation Center\, 4430 Menchaca Rd\, Austin\, 78745\, United States
CATEGORIES:Operation Clean Clothes
ATTACH;FMTTYPE=image/png:https://mission-accomplished.org/wp-content/uploads/2023/12/1.png
END:VEVENT
BEGIN:VEVENT
DTSTART;TZID=UTC:20280501T090000
DTEND;TZID=UTC:20280501T120000
DTSTAMP:20260422T221207
CREATED:20240120T193046Z
LAST-MODIFIED:20240120T194806Z
UID:10005473-1840784400-1840795200@mission-accomplished.org
SUMMARY:Sunrise Homeless Navigation Center
DESCRIPTION:
URL:https://mission-accomplished.org/event/sunrise-homeless-navigation-center/2028-05-01/
LOCATION:Sunrise Homeless Navigation Center\, 4430 Menchaca Rd\, Austin\, 78745\, United States
CATEGORIES:Operation Clean Clothes
ATTACH;FMTTYPE=image/png:https://mission-accomplished.org/wp-content/uploads/2023/12/1.png
END:VEVENT
BEGIN:VEVENT
DTSTART;TZID=UTC:20280508T090000
DTEND;TZID=UTC:20280508T120000
DTSTAMP:20260422T221207
CREATED:20240120T193046Z
LAST-MODIFIED:20240120T194806Z
UID:10005474-1841389200-1841400000@mission-accomplished.org
SUMMARY:Sunrise Homeless Navigation Center
DESCRIPTION:
URL:https://mission-accomplished.org/event/sunrise-homeless-navigation-center/2028-05-08/
LOCATION:Sunrise Homeless Navigation Center\, 4430 Menchaca Rd\, Austin\, 78745\, United States
CATEGORIES:Operation Clean Clothes
ATTACH;FMTTYPE=image/png:https://mission-accomplished.org/wp-content/uploads/2023/12/1.png
END:VEVENT
BEGIN:VEVENT
DTSTART;TZID=UTC:20280515T090000
DTEND;TZID=UTC:20280515T120000
DTSTAMP:20260422T221207
CREATED:20240120T193046Z
LAST-MODIFIED:20240120T194806Z
UID:10005475-1841994000-1842004800@mission-accomplished.org
SUMMARY:Sunrise Homeless Navigation Center
DESCRIPTION:
URL:https://mission-accomplished.org/event/sunrise-homeless-navigation-center/2028-05-15/
LOCATION:Sunrise Homeless Navigation Center\, 4430 Menchaca Rd\, Austin\, 78745\, United States
CATEGORIES:Operation Clean Clothes
ATTACH;FMTTYPE=image/png:https://mission-accomplished.org/wp-content/uploads/2023/12/1.png
END:VEVENT
BEGIN:VEVENT
DTSTART;TZID=UTC:20280522T090000
DTEND;TZID=UTC:20280522T120000
DTSTAMP:20260422T221208
CREATED:20240120T193046Z
LAST-MODIFIED:20240120T194806Z
UID:10005476-1842598800-1842609600@mission-accomplished.org
SUMMARY:Sunrise Homeless Navigation Center
DESCRIPTION:
URL:https://mission-accomplished.org/event/sunrise-homeless-navigation-center/2028-05-22/
LOCATION:Sunrise Homeless Navigation Center\, 4430 Menchaca Rd\, Austin\, 78745\, United States
CATEGORIES:Operation Clean Clothes
ATTACH;FMTTYPE=image/png:https://mission-accomplished.org/wp-content/uploads/2023/12/1.png
END:VEVENT
BEGIN:VEVENT
DTSTART;TZID=UTC:20280529T090000
DTEND;TZID=UTC:20280529T120000
DTSTAMP:20260422T221208
CREATED:20240120T193046Z
LAST-MODIFIED:20240120T194806Z
UID:10005477-1843203600-1843214400@mission-accomplished.org
SUMMARY:Sunrise Homeless Navigation Center
DESCRIPTION:
URL:https://mission-accomplished.org/event/sunrise-homeless-navigation-center/2028-05-29/
LOCATION:Sunrise Homeless Navigation Center\, 4430 Menchaca Rd\, Austin\, 78745\, United States
CATEGORIES:Operation Clean Clothes
ATTACH;FMTTYPE=image/png:https://mission-accomplished.org/wp-content/uploads/2023/12/1.png
END:VEVENT
BEGIN:VEVENT
DTSTART;TZID=UTC:20280605T090000
DTEND;TZID=UTC:20280605T120000
DTSTAMP:20260422T221208
CREATED:20240120T193046Z
LAST-MODIFIED:20240120T194806Z
UID:10005478-1843808400-1843819200@mission-accomplished.org
SUMMARY:Sunrise Homeless Navigation Center
DESCRIPTION:
URL:https://mission-accomplished.org/event/sunrise-homeless-navigation-center/2028-06-05/
LOCATION:Sunrise Homeless Navigation Center\, 4430 Menchaca Rd\, Austin\, 78745\, United States
CATEGORIES:Operation Clean Clothes
ATTACH;FMTTYPE=image/png:https://mission-accomplished.org/wp-content/uploads/2023/12/1.png
END:VEVENT
BEGIN:VEVENT
DTSTART;TZID=UTC:20280612T090000
DTEND;TZID=UTC:20280612T120000
DTSTAMP:20260422T221208
CREATED:20240120T193046Z
LAST-MODIFIED:20240120T194806Z
UID:10005479-1844413200-1844424000@mission-accomplished.org
SUMMARY:Sunrise Homeless Navigation Center
DESCRIPTION:
URL:https://mission-accomplished.org/event/sunrise-homeless-navigation-center/2028-06-12/
LOCATION:Sunrise Homeless Navigation Center\, 4430 Menchaca Rd\, Austin\, 78745\, United States
CATEGORIES:Operation Clean Clothes
ATTACH;FMTTYPE=image/png:https://mission-accomplished.org/wp-content/uploads/2023/12/1.png
END:VEVENT
BEGIN:VEVENT
DTSTART;TZID=UTC:20280619T090000
DTEND;TZID=UTC:20280619T120000
DTSTAMP:20260422T221208
CREATED:20240120T193046Z
LAST-MODIFIED:20240120T194806Z
UID:10005480-1845018000-1845028800@mission-accomplished.org
SUMMARY:Sunrise Homeless Navigation Center
DESCRIPTION:
URL:https://mission-accomplished.org/event/sunrise-homeless-navigation-center/2028-06-19/
LOCATION:Sunrise Homeless Navigation Center\, 4430 Menchaca Rd\, Austin\, 78745\, United States
CATEGORIES:Operation Clean Clothes
ATTACH;FMTTYPE=image/png:https://mission-accomplished.org/wp-content/uploads/2023/12/1.png
END:VEVENT
BEGIN:VEVENT
DTSTART;TZID=UTC:20280626T090000
DTEND;TZID=UTC:20280626T120000
DTSTAMP:20260422T221208
CREATED:20240120T193046Z
LAST-MODIFIED:20240120T194806Z
UID:10005481-1845622800-1845633600@mission-accomplished.org
SUMMARY:Sunrise Homeless Navigation Center
DESCRIPTION:
URL:https://mission-accomplished.org/event/sunrise-homeless-navigation-center/2028-06-26/
LOCATION:Sunrise Homeless Navigation Center\, 4430 Menchaca Rd\, Austin\, 78745\, United States
CATEGORIES:Operation Clean Clothes
ATTACH;FMTTYPE=image/png:https://mission-accomplished.org/wp-content/uploads/2023/12/1.png
END:VEVENT
BEGIN:VEVENT
DTSTART;TZID=UTC:20280703T090000
DTEND;TZID=UTC:20280703T120000
DTSTAMP:20260422T221208
CREATED:20240120T193046Z
LAST-MODIFIED:20240120T194806Z
UID:10005482-1846227600-1846238400@mission-accomplished.org
SUMMARY:Sunrise Homeless Navigation Center
DESCRIPTION:
URL:https://mission-accomplished.org/event/sunrise-homeless-navigation-center/2028-07-03/
LOCATION:Sunrise Homeless Navigation Center\, 4430 Menchaca Rd\, Austin\, 78745\, United States
CATEGORIES:Operation Clean Clothes
ATTACH;FMTTYPE=image/png:https://mission-accomplished.org/wp-content/uploads/2023/12/1.png
END:VEVENT
BEGIN:VEVENT
DTSTART;TZID=UTC:20280710T090000
DTEND;TZID=UTC:20280710T120000
DTSTAMP:20260422T221208
CREATED:20240120T193046Z
LAST-MODIFIED:20240120T194806Z
UID:10005483-1846832400-1846843200@mission-accomplished.org
SUMMARY:Sunrise Homeless Navigation Center
DESCRIPTION:
URL:https://mission-accomplished.org/event/sunrise-homeless-navigation-center/2028-07-10/
LOCATION:Sunrise Homeless Navigation Center\, 4430 Menchaca Rd\, Austin\, 78745\, United States
CATEGORIES:Operation Clean Clothes
ATTACH;FMTTYPE=image/png:https://mission-accomplished.org/wp-content/uploads/2023/12/1.png
END:VEVENT
BEGIN:VEVENT
DTSTART;TZID=UTC:20280717T090000
DTEND;TZID=UTC:20280717T120000
DTSTAMP:20260422T221208
CREATED:20240120T193046Z
LAST-MODIFIED:20240120T194806Z
UID:10005484-1847437200-1847448000@mission-accomplished.org
SUMMARY:Sunrise Homeless Navigation Center
DESCRIPTION:
URL:https://mission-accomplished.org/event/sunrise-homeless-navigation-center/2028-07-17/
LOCATION:Sunrise Homeless Navigation Center\, 4430 Menchaca Rd\, Austin\, 78745\, United States
CATEGORIES:Operation Clean Clothes
ATTACH;FMTTYPE=image/png:https://mission-accomplished.org/wp-content/uploads/2023/12/1.png
END:VEVENT
BEGIN:VEVENT
DTSTART;TZID=UTC:20280724T090000
DTEND;TZID=UTC:20280724T120000
DTSTAMP:20260422T221208
CREATED:20240120T193046Z
LAST-MODIFIED:20240120T194806Z
UID:10005485-1848042000-1848052800@mission-accomplished.org
SUMMARY:Sunrise Homeless Navigation Center
DESCRIPTION:
URL:https://mission-accomplished.org/event/sunrise-homeless-navigation-center/2028-07-24/
LOCATION:Sunrise Homeless Navigation Center\, 4430 Menchaca Rd\, Austin\, 78745\, United States
CATEGORIES:Operation Clean Clothes
ATTACH;FMTTYPE=image/png:https://mission-accomplished.org/wp-content/uploads/2023/12/1.png
END:VEVENT
BEGIN:VEVENT
DTSTART;TZID=UTC:20280731T090000
DTEND;TZID=UTC:20280731T120000
DTSTAMP:20260422T221208
CREATED:20240120T193046Z
LAST-MODIFIED:20240120T194806Z
UID:10005486-1848646800-1848657600@mission-accomplished.org
SUMMARY:Sunrise Homeless Navigation Center
DESCRIPTION:
URL:https://mission-accomplished.org/event/sunrise-homeless-navigation-center/2028-07-31/
LOCATION:Sunrise Homeless Navigation Center\, 4430 Menchaca Rd\, Austin\, 78745\, United States
CATEGORIES:Operation Clean Clothes
ATTACH;FMTTYPE=image/png:https://mission-accomplished.org/wp-content/uploads/2023/12/1.png
END:VEVENT
BEGIN:VEVENT
DTSTART;TZID=UTC:20280807T090000
DTEND;TZID=UTC:20280807T120000
DTSTAMP:20260422T221208
CREATED:20240120T193046Z
LAST-MODIFIED:20240120T194806Z
UID:10005487-1849251600-1849262400@mission-accomplished.org
SUMMARY:Sunrise Homeless Navigation Center
DESCRIPTION:
URL:https://mission-accomplished.org/event/sunrise-homeless-navigation-center/2028-08-07/
LOCATION:Sunrise Homeless Navigation Center\, 4430 Menchaca Rd\, Austin\, 78745\, United States
CATEGORIES:Operation Clean Clothes
ATTACH;FMTTYPE=image/png:https://mission-accomplished.org/wp-content/uploads/2023/12/1.png
END:VEVENT
BEGIN:VEVENT
DTSTART;TZID=UTC:20280814T090000
DTEND;TZID=UTC:20280814T120000
DTSTAMP:20260422T221208
CREATED:20240120T193046Z
LAST-MODIFIED:20240120T194806Z
UID:10005488-1849856400-1849867200@mission-accomplished.org
SUMMARY:Sunrise Homeless Navigation Center
DESCRIPTION:
URL:https://mission-accomplished.org/event/sunrise-homeless-navigation-center/2028-08-14/
LOCATION:Sunrise Homeless Navigation Center\, 4430 Menchaca Rd\, Austin\, 78745\, United States
CATEGORIES:Operation Clean Clothes
ATTACH;FMTTYPE=image/png:https://mission-accomplished.org/wp-content/uploads/2023/12/1.png
END:VEVENT
BEGIN:VEVENT
DTSTART;TZID=UTC:20280821T090000
DTEND;TZID=UTC:20280821T120000
DTSTAMP:20260422T221208
CREATED:20240120T193046Z
LAST-MODIFIED:20240120T194806Z
UID:10005489-1850461200-1850472000@mission-accomplished.org
SUMMARY:Sunrise Homeless Navigation Center
DESCRIPTION:
URL:https://mission-accomplished.org/event/sunrise-homeless-navigation-center/2028-08-21/
LOCATION:Sunrise Homeless Navigation Center\, 4430 Menchaca Rd\, Austin\, 78745\, United States
CATEGORIES:Operation Clean Clothes
ATTACH;FMTTYPE=image/png:https://mission-accomplished.org/wp-content/uploads/2023/12/1.png
END:VEVENT
BEGIN:VEVENT
DTSTART;TZID=UTC:20280828T090000
DTEND;TZID=UTC:20280828T120000
DTSTAMP:20260422T221208
CREATED:20240120T193046Z
LAST-MODIFIED:20240120T194806Z
UID:10005490-1851066000-1851076800@mission-accomplished.org
SUMMARY:Sunrise Homeless Navigation Center
DESCRIPTION:
URL:https://mission-accomplished.org/event/sunrise-homeless-navigation-center/2028-08-28/
LOCATION:Sunrise Homeless Navigation Center\, 4430 Menchaca Rd\, Austin\, 78745\, United States
CATEGORIES:Operation Clean Clothes
ATTACH;FMTTYPE=image/png:https://mission-accomplished.org/wp-content/uploads/2023/12/1.png
END:VEVENT
BEGIN:VEVENT
DTSTART;TZID=UTC:20280904T090000
DTEND;TZID=UTC:20280904T120000
DTSTAMP:20260422T221208
CREATED:20240120T193046Z
LAST-MODIFIED:20240120T194806Z
UID:10005491-1851670800-1851681600@mission-accomplished.org
SUMMARY:Sunrise Homeless Navigation Center
DESCRIPTION:
URL:https://mission-accomplished.org/event/sunrise-homeless-navigation-center/2028-09-04/
LOCATION:Sunrise Homeless Navigation Center\, 4430 Menchaca Rd\, Austin\, 78745\, United States
CATEGORIES:Operation Clean Clothes
ATTACH;FMTTYPE=image/png:https://mission-accomplished.org/wp-content/uploads/2023/12/1.png
END:VEVENT
BEGIN:VEVENT
DTSTART;TZID=UTC:20280911T090000
DTEND;TZID=UTC:20280911T120000
DTSTAMP:20260422T221208
CREATED:20240120T193046Z
LAST-MODIFIED:20240120T194806Z
UID:10005492-1852275600-1852286400@mission-accomplished.org
SUMMARY:Sunrise Homeless Navigation Center
DESCRIPTION:
URL:https://mission-accomplished.org/event/sunrise-homeless-navigation-center/2028-09-11/
LOCATION:Sunrise Homeless Navigation Center\, 4430 Menchaca Rd\, Austin\, 78745\, United States
CATEGORIES:Operation Clean Clothes
ATTACH;FMTTYPE=image/png:https://mission-accomplished.org/wp-content/uploads/2023/12/1.png
END:VEVENT
BEGIN:VEVENT
DTSTART;TZID=UTC:20280918T090000
DTEND;TZID=UTC:20280918T120000
DTSTAMP:20260422T221208
CREATED:20240120T193046Z
LAST-MODIFIED:20240120T194806Z
UID:10005493-1852880400-1852891200@mission-accomplished.org
SUMMARY:Sunrise Homeless Navigation Center
DESCRIPTION:
URL:https://mission-accomplished.org/event/sunrise-homeless-navigation-center/2028-09-18/
LOCATION:Sunrise Homeless Navigation Center\, 4430 Menchaca Rd\, Austin\, 78745\, United States
CATEGORIES:Operation Clean Clothes
ATTACH;FMTTYPE=image/png:https://mission-accomplished.org/wp-content/uploads/2023/12/1.png
END:VEVENT
END:VCALENDAR