BEGIN:VCALENDAR
VERSION:2.0
PRODID:-//Mission Accomplished - ECPv6.15.20//NONSGML v1.0//EN
CALSCALE:GREGORIAN
METHOD:PUBLISH
X-ORIGINAL-URL:https://mission-accomplished.org
X-WR-CALDESC:Events for Mission Accomplished
REFRESH-INTERVAL;VALUE=DURATION:PT1H
X-Robots-Tag:noindex
X-PUBLISHED-TTL:PT1H
BEGIN:VTIMEZONE
TZID:UTC
BEGIN:STANDARD
TZOFFSETFROM:+0000
TZOFFSETTO:+0000
TZNAME:UTC
DTSTART:20260101T000000
END:STANDARD
END:VTIMEZONE
BEGIN:VEVENT
DTSTART;TZID=UTC:20270412T090000
DTEND;TZID=UTC:20270412T120000
DTSTAMP:20260422T072633
CREATED:20240120T193046Z
LAST-MODIFIED:20240120T194806Z
UID:10005418-1807520400-1807531200@mission-accomplished.org
SUMMARY:Sunrise Homeless Navigation Center
DESCRIPTION:
URL:https://mission-accomplished.org/event/sunrise-homeless-navigation-center/2027-04-12/
LOCATION:Sunrise Homeless Navigation Center\, 4430 Menchaca Rd\, Austin\, 78745\, United States
CATEGORIES:Operation Clean Clothes
ATTACH;FMTTYPE=image/png:https://mission-accomplished.org/wp-content/uploads/2023/12/1.png
END:VEVENT
BEGIN:VEVENT
DTSTART;TZID=UTC:20270419T090000
DTEND;TZID=UTC:20270419T120000
DTSTAMP:20260422T072633
CREATED:20240120T193046Z
LAST-MODIFIED:20240120T194806Z
UID:10005419-1808125200-1808136000@mission-accomplished.org
SUMMARY:Sunrise Homeless Navigation Center
DESCRIPTION:
URL:https://mission-accomplished.org/event/sunrise-homeless-navigation-center/2027-04-19/
LOCATION:Sunrise Homeless Navigation Center\, 4430 Menchaca Rd\, Austin\, 78745\, United States
CATEGORIES:Operation Clean Clothes
ATTACH;FMTTYPE=image/png:https://mission-accomplished.org/wp-content/uploads/2023/12/1.png
END:VEVENT
BEGIN:VEVENT
DTSTART;TZID=UTC:20270426T090000
DTEND;TZID=UTC:20270426T120000
DTSTAMP:20260422T072633
CREATED:20240120T193046Z
LAST-MODIFIED:20240120T194806Z
UID:10005420-1808730000-1808740800@mission-accomplished.org
SUMMARY:Sunrise Homeless Navigation Center
DESCRIPTION:
URL:https://mission-accomplished.org/event/sunrise-homeless-navigation-center/2027-04-26/
LOCATION:Sunrise Homeless Navigation Center\, 4430 Menchaca Rd\, Austin\, 78745\, United States
CATEGORIES:Operation Clean Clothes
ATTACH;FMTTYPE=image/png:https://mission-accomplished.org/wp-content/uploads/2023/12/1.png
END:VEVENT
BEGIN:VEVENT
DTSTART;TZID=UTC:20270503T090000
DTEND;TZID=UTC:20270503T120000
DTSTAMP:20260422T072633
CREATED:20240120T193046Z
LAST-MODIFIED:20240120T194806Z
UID:10005421-1809334800-1809345600@mission-accomplished.org
SUMMARY:Sunrise Homeless Navigation Center
DESCRIPTION:
URL:https://mission-accomplished.org/event/sunrise-homeless-navigation-center/2027-05-03/
LOCATION:Sunrise Homeless Navigation Center\, 4430 Menchaca Rd\, Austin\, 78745\, United States
CATEGORIES:Operation Clean Clothes
ATTACH;FMTTYPE=image/png:https://mission-accomplished.org/wp-content/uploads/2023/12/1.png
END:VEVENT
BEGIN:VEVENT
DTSTART;TZID=UTC:20270510T090000
DTEND;TZID=UTC:20270510T120000
DTSTAMP:20260422T072633
CREATED:20240120T193046Z
LAST-MODIFIED:20240120T194806Z
UID:10005422-1809939600-1809950400@mission-accomplished.org
SUMMARY:Sunrise Homeless Navigation Center
DESCRIPTION:
URL:https://mission-accomplished.org/event/sunrise-homeless-navigation-center/2027-05-10/
LOCATION:Sunrise Homeless Navigation Center\, 4430 Menchaca Rd\, Austin\, 78745\, United States
CATEGORIES:Operation Clean Clothes
ATTACH;FMTTYPE=image/png:https://mission-accomplished.org/wp-content/uploads/2023/12/1.png
END:VEVENT
BEGIN:VEVENT
DTSTART;TZID=UTC:20270517T090000
DTEND;TZID=UTC:20270517T120000
DTSTAMP:20260422T072633
CREATED:20240120T193046Z
LAST-MODIFIED:20240120T194806Z
UID:10005423-1810544400-1810555200@mission-accomplished.org
SUMMARY:Sunrise Homeless Navigation Center
DESCRIPTION:
URL:https://mission-accomplished.org/event/sunrise-homeless-navigation-center/2027-05-17/
LOCATION:Sunrise Homeless Navigation Center\, 4430 Menchaca Rd\, Austin\, 78745\, United States
CATEGORIES:Operation Clean Clothes
ATTACH;FMTTYPE=image/png:https://mission-accomplished.org/wp-content/uploads/2023/12/1.png
END:VEVENT
BEGIN:VEVENT
DTSTART;TZID=UTC:20270524T090000
DTEND;TZID=UTC:20270524T120000
DTSTAMP:20260422T072633
CREATED:20240120T193046Z
LAST-MODIFIED:20240120T194806Z
UID:10005424-1811149200-1811160000@mission-accomplished.org
SUMMARY:Sunrise Homeless Navigation Center
DESCRIPTION:
URL:https://mission-accomplished.org/event/sunrise-homeless-navigation-center/2027-05-24/
LOCATION:Sunrise Homeless Navigation Center\, 4430 Menchaca Rd\, Austin\, 78745\, United States
CATEGORIES:Operation Clean Clothes
ATTACH;FMTTYPE=image/png:https://mission-accomplished.org/wp-content/uploads/2023/12/1.png
END:VEVENT
BEGIN:VEVENT
DTSTART;TZID=UTC:20270531T090000
DTEND;TZID=UTC:20270531T120000
DTSTAMP:20260422T072633
CREATED:20240120T193046Z
LAST-MODIFIED:20240120T194806Z
UID:10005425-1811754000-1811764800@mission-accomplished.org
SUMMARY:Sunrise Homeless Navigation Center
DESCRIPTION:
URL:https://mission-accomplished.org/event/sunrise-homeless-navigation-center/2027-05-31/
LOCATION:Sunrise Homeless Navigation Center\, 4430 Menchaca Rd\, Austin\, 78745\, United States
CATEGORIES:Operation Clean Clothes
ATTACH;FMTTYPE=image/png:https://mission-accomplished.org/wp-content/uploads/2023/12/1.png
END:VEVENT
BEGIN:VEVENT
DTSTART;TZID=UTC:20270607T090000
DTEND;TZID=UTC:20270607T120000
DTSTAMP:20260422T072633
CREATED:20240120T193046Z
LAST-MODIFIED:20240120T194806Z
UID:10005426-1812358800-1812369600@mission-accomplished.org
SUMMARY:Sunrise Homeless Navigation Center
DESCRIPTION:
URL:https://mission-accomplished.org/event/sunrise-homeless-navigation-center/2027-06-07/
LOCATION:Sunrise Homeless Navigation Center\, 4430 Menchaca Rd\, Austin\, 78745\, United States
CATEGORIES:Operation Clean Clothes
ATTACH;FMTTYPE=image/png:https://mission-accomplished.org/wp-content/uploads/2023/12/1.png
END:VEVENT
BEGIN:VEVENT
DTSTART;TZID=UTC:20270614T090000
DTEND;TZID=UTC:20270614T120000
DTSTAMP:20260422T072633
CREATED:20240120T193046Z
LAST-MODIFIED:20240120T194806Z
UID:10005427-1812963600-1812974400@mission-accomplished.org
SUMMARY:Sunrise Homeless Navigation Center
DESCRIPTION:
URL:https://mission-accomplished.org/event/sunrise-homeless-navigation-center/2027-06-14/
LOCATION:Sunrise Homeless Navigation Center\, 4430 Menchaca Rd\, Austin\, 78745\, United States
CATEGORIES:Operation Clean Clothes
ATTACH;FMTTYPE=image/png:https://mission-accomplished.org/wp-content/uploads/2023/12/1.png
END:VEVENT
BEGIN:VEVENT
DTSTART;TZID=UTC:20270621T090000
DTEND;TZID=UTC:20270621T120000
DTSTAMP:20260422T072633
CREATED:20240120T193046Z
LAST-MODIFIED:20240120T194806Z
UID:10005428-1813568400-1813579200@mission-accomplished.org
SUMMARY:Sunrise Homeless Navigation Center
DESCRIPTION:
URL:https://mission-accomplished.org/event/sunrise-homeless-navigation-center/2027-06-21/
LOCATION:Sunrise Homeless Navigation Center\, 4430 Menchaca Rd\, Austin\, 78745\, United States
CATEGORIES:Operation Clean Clothes
ATTACH;FMTTYPE=image/png:https://mission-accomplished.org/wp-content/uploads/2023/12/1.png
END:VEVENT
BEGIN:VEVENT
DTSTART;TZID=UTC:20270628T090000
DTEND;TZID=UTC:20270628T120000
DTSTAMP:20260422T072633
CREATED:20240120T193046Z
LAST-MODIFIED:20240120T194806Z
UID:10005429-1814173200-1814184000@mission-accomplished.org
SUMMARY:Sunrise Homeless Navigation Center
DESCRIPTION:
URL:https://mission-accomplished.org/event/sunrise-homeless-navigation-center/2027-06-28/
LOCATION:Sunrise Homeless Navigation Center\, 4430 Menchaca Rd\, Austin\, 78745\, United States
CATEGORIES:Operation Clean Clothes
ATTACH;FMTTYPE=image/png:https://mission-accomplished.org/wp-content/uploads/2023/12/1.png
END:VEVENT
BEGIN:VEVENT
DTSTART;TZID=UTC:20270705T090000
DTEND;TZID=UTC:20270705T120000
DTSTAMP:20260422T072633
CREATED:20240120T193046Z
LAST-MODIFIED:20240120T194806Z
UID:10005430-1814778000-1814788800@mission-accomplished.org
SUMMARY:Sunrise Homeless Navigation Center
DESCRIPTION:
URL:https://mission-accomplished.org/event/sunrise-homeless-navigation-center/2027-07-05/
LOCATION:Sunrise Homeless Navigation Center\, 4430 Menchaca Rd\, Austin\, 78745\, United States
CATEGORIES:Operation Clean Clothes
ATTACH;FMTTYPE=image/png:https://mission-accomplished.org/wp-content/uploads/2023/12/1.png
END:VEVENT
BEGIN:VEVENT
DTSTART;TZID=UTC:20270712T090000
DTEND;TZID=UTC:20270712T120000
DTSTAMP:20260422T072633
CREATED:20240120T193046Z
LAST-MODIFIED:20240120T194806Z
UID:10005431-1815382800-1815393600@mission-accomplished.org
SUMMARY:Sunrise Homeless Navigation Center
DESCRIPTION:
URL:https://mission-accomplished.org/event/sunrise-homeless-navigation-center/2027-07-12/
LOCATION:Sunrise Homeless Navigation Center\, 4430 Menchaca Rd\, Austin\, 78745\, United States
CATEGORIES:Operation Clean Clothes
ATTACH;FMTTYPE=image/png:https://mission-accomplished.org/wp-content/uploads/2023/12/1.png
END:VEVENT
BEGIN:VEVENT
DTSTART;TZID=UTC:20270719T090000
DTEND;TZID=UTC:20270719T120000
DTSTAMP:20260422T072633
CREATED:20240120T193046Z
LAST-MODIFIED:20240120T194806Z
UID:10005432-1815987600-1815998400@mission-accomplished.org
SUMMARY:Sunrise Homeless Navigation Center
DESCRIPTION:
URL:https://mission-accomplished.org/event/sunrise-homeless-navigation-center/2027-07-19/
LOCATION:Sunrise Homeless Navigation Center\, 4430 Menchaca Rd\, Austin\, 78745\, United States
CATEGORIES:Operation Clean Clothes
ATTACH;FMTTYPE=image/png:https://mission-accomplished.org/wp-content/uploads/2023/12/1.png
END:VEVENT
BEGIN:VEVENT
DTSTART;TZID=UTC:20270726T090000
DTEND;TZID=UTC:20270726T120000
DTSTAMP:20260422T072633
CREATED:20240120T193046Z
LAST-MODIFIED:20240120T194806Z
UID:10005433-1816592400-1816603200@mission-accomplished.org
SUMMARY:Sunrise Homeless Navigation Center
DESCRIPTION:
URL:https://mission-accomplished.org/event/sunrise-homeless-navigation-center/2027-07-26/
LOCATION:Sunrise Homeless Navigation Center\, 4430 Menchaca Rd\, Austin\, 78745\, United States
CATEGORIES:Operation Clean Clothes
ATTACH;FMTTYPE=image/png:https://mission-accomplished.org/wp-content/uploads/2023/12/1.png
END:VEVENT
BEGIN:VEVENT
DTSTART;TZID=UTC:20270802T090000
DTEND;TZID=UTC:20270802T120000
DTSTAMP:20260422T072633
CREATED:20240120T193046Z
LAST-MODIFIED:20240120T194806Z
UID:10005434-1817197200-1817208000@mission-accomplished.org
SUMMARY:Sunrise Homeless Navigation Center
DESCRIPTION:
URL:https://mission-accomplished.org/event/sunrise-homeless-navigation-center/2027-08-02/
LOCATION:Sunrise Homeless Navigation Center\, 4430 Menchaca Rd\, Austin\, 78745\, United States
CATEGORIES:Operation Clean Clothes
ATTACH;FMTTYPE=image/png:https://mission-accomplished.org/wp-content/uploads/2023/12/1.png
END:VEVENT
BEGIN:VEVENT
DTSTART;TZID=UTC:20270809T090000
DTEND;TZID=UTC:20270809T120000
DTSTAMP:20260422T072633
CREATED:20240120T193046Z
LAST-MODIFIED:20240120T194806Z
UID:10005435-1817802000-1817812800@mission-accomplished.org
SUMMARY:Sunrise Homeless Navigation Center
DESCRIPTION:
URL:https://mission-accomplished.org/event/sunrise-homeless-navigation-center/2027-08-09/
LOCATION:Sunrise Homeless Navigation Center\, 4430 Menchaca Rd\, Austin\, 78745\, United States
CATEGORIES:Operation Clean Clothes
ATTACH;FMTTYPE=image/png:https://mission-accomplished.org/wp-content/uploads/2023/12/1.png
END:VEVENT
BEGIN:VEVENT
DTSTART;TZID=UTC:20270816T090000
DTEND;TZID=UTC:20270816T120000
DTSTAMP:20260422T072633
CREATED:20240120T193046Z
LAST-MODIFIED:20240120T194806Z
UID:10005436-1818406800-1818417600@mission-accomplished.org
SUMMARY:Sunrise Homeless Navigation Center
DESCRIPTION:
URL:https://mission-accomplished.org/event/sunrise-homeless-navigation-center/2027-08-16/
LOCATION:Sunrise Homeless Navigation Center\, 4430 Menchaca Rd\, Austin\, 78745\, United States
CATEGORIES:Operation Clean Clothes
ATTACH;FMTTYPE=image/png:https://mission-accomplished.org/wp-content/uploads/2023/12/1.png
END:VEVENT
BEGIN:VEVENT
DTSTART;TZID=UTC:20270823T090000
DTEND;TZID=UTC:20270823T120000
DTSTAMP:20260422T072633
CREATED:20240120T193046Z
LAST-MODIFIED:20240120T194806Z
UID:10005437-1819011600-1819022400@mission-accomplished.org
SUMMARY:Sunrise Homeless Navigation Center
DESCRIPTION:
URL:https://mission-accomplished.org/event/sunrise-homeless-navigation-center/2027-08-23/
LOCATION:Sunrise Homeless Navigation Center\, 4430 Menchaca Rd\, Austin\, 78745\, United States
CATEGORIES:Operation Clean Clothes
ATTACH;FMTTYPE=image/png:https://mission-accomplished.org/wp-content/uploads/2023/12/1.png
END:VEVENT
BEGIN:VEVENT
DTSTART;TZID=UTC:20270830T090000
DTEND;TZID=UTC:20270830T120000
DTSTAMP:20260422T072633
CREATED:20240120T193046Z
LAST-MODIFIED:20240120T194806Z
UID:10005438-1819616400-1819627200@mission-accomplished.org
SUMMARY:Sunrise Homeless Navigation Center
DESCRIPTION:
URL:https://mission-accomplished.org/event/sunrise-homeless-navigation-center/2027-08-30/
LOCATION:Sunrise Homeless Navigation Center\, 4430 Menchaca Rd\, Austin\, 78745\, United States
CATEGORIES:Operation Clean Clothes
ATTACH;FMTTYPE=image/png:https://mission-accomplished.org/wp-content/uploads/2023/12/1.png
END:VEVENT
BEGIN:VEVENT
DTSTART;TZID=UTC:20270906T090000
DTEND;TZID=UTC:20270906T120000
DTSTAMP:20260422T072633
CREATED:20240120T193046Z
LAST-MODIFIED:20240120T194806Z
UID:10005439-1820221200-1820232000@mission-accomplished.org
SUMMARY:Sunrise Homeless Navigation Center
DESCRIPTION:
URL:https://mission-accomplished.org/event/sunrise-homeless-navigation-center/2027-09-06/
LOCATION:Sunrise Homeless Navigation Center\, 4430 Menchaca Rd\, Austin\, 78745\, United States
CATEGORIES:Operation Clean Clothes
ATTACH;FMTTYPE=image/png:https://mission-accomplished.org/wp-content/uploads/2023/12/1.png
END:VEVENT
BEGIN:VEVENT
DTSTART;TZID=UTC:20270913T090000
DTEND;TZID=UTC:20270913T120000
DTSTAMP:20260422T072633
CREATED:20240120T193046Z
LAST-MODIFIED:20240120T194806Z
UID:10005440-1820826000-1820836800@mission-accomplished.org
SUMMARY:Sunrise Homeless Navigation Center
DESCRIPTION:
URL:https://mission-accomplished.org/event/sunrise-homeless-navigation-center/2027-09-13/
LOCATION:Sunrise Homeless Navigation Center\, 4430 Menchaca Rd\, Austin\, 78745\, United States
CATEGORIES:Operation Clean Clothes
ATTACH;FMTTYPE=image/png:https://mission-accomplished.org/wp-content/uploads/2023/12/1.png
END:VEVENT
BEGIN:VEVENT
DTSTART;TZID=UTC:20270920T090000
DTEND;TZID=UTC:20270920T120000
DTSTAMP:20260422T072633
CREATED:20240120T193046Z
LAST-MODIFIED:20240120T194806Z
UID:10005441-1821430800-1821441600@mission-accomplished.org
SUMMARY:Sunrise Homeless Navigation Center
DESCRIPTION:
URL:https://mission-accomplished.org/event/sunrise-homeless-navigation-center/2027-09-20/
LOCATION:Sunrise Homeless Navigation Center\, 4430 Menchaca Rd\, Austin\, 78745\, United States
CATEGORIES:Operation Clean Clothes
ATTACH;FMTTYPE=image/png:https://mission-accomplished.org/wp-content/uploads/2023/12/1.png
END:VEVENT
BEGIN:VEVENT
DTSTART;TZID=UTC:20270927T090000
DTEND;TZID=UTC:20270927T120000
DTSTAMP:20260422T072633
CREATED:20240120T193046Z
LAST-MODIFIED:20240120T194806Z
UID:10005442-1822035600-1822046400@mission-accomplished.org
SUMMARY:Sunrise Homeless Navigation Center
DESCRIPTION:
URL:https://mission-accomplished.org/event/sunrise-homeless-navigation-center/2027-09-27/
LOCATION:Sunrise Homeless Navigation Center\, 4430 Menchaca Rd\, Austin\, 78745\, United States
CATEGORIES:Operation Clean Clothes
ATTACH;FMTTYPE=image/png:https://mission-accomplished.org/wp-content/uploads/2023/12/1.png
END:VEVENT
BEGIN:VEVENT
DTSTART;TZID=UTC:20271004T090000
DTEND;TZID=UTC:20271004T120000
DTSTAMP:20260422T072633
CREATED:20240120T193046Z
LAST-MODIFIED:20240120T194806Z
UID:10005443-1822640400-1822651200@mission-accomplished.org
SUMMARY:Sunrise Homeless Navigation Center
DESCRIPTION:
URL:https://mission-accomplished.org/event/sunrise-homeless-navigation-center/2027-10-04/
LOCATION:Sunrise Homeless Navigation Center\, 4430 Menchaca Rd\, Austin\, 78745\, United States
CATEGORIES:Operation Clean Clothes
ATTACH;FMTTYPE=image/png:https://mission-accomplished.org/wp-content/uploads/2023/12/1.png
END:VEVENT
BEGIN:VEVENT
DTSTART;TZID=UTC:20271011T090000
DTEND;TZID=UTC:20271011T120000
DTSTAMP:20260422T072633
CREATED:20240120T193046Z
LAST-MODIFIED:20240120T194806Z
UID:10005444-1823245200-1823256000@mission-accomplished.org
SUMMARY:Sunrise Homeless Navigation Center
DESCRIPTION:
URL:https://mission-accomplished.org/event/sunrise-homeless-navigation-center/2027-10-11/
LOCATION:Sunrise Homeless Navigation Center\, 4430 Menchaca Rd\, Austin\, 78745\, United States
CATEGORIES:Operation Clean Clothes
ATTACH;FMTTYPE=image/png:https://mission-accomplished.org/wp-content/uploads/2023/12/1.png
END:VEVENT
BEGIN:VEVENT
DTSTART;TZID=UTC:20271018T090000
DTEND;TZID=UTC:20271018T120000
DTSTAMP:20260422T072633
CREATED:20240120T193046Z
LAST-MODIFIED:20240120T194806Z
UID:10005445-1823850000-1823860800@mission-accomplished.org
SUMMARY:Sunrise Homeless Navigation Center
DESCRIPTION:
URL:https://mission-accomplished.org/event/sunrise-homeless-navigation-center/2027-10-18/
LOCATION:Sunrise Homeless Navigation Center\, 4430 Menchaca Rd\, Austin\, 78745\, United States
CATEGORIES:Operation Clean Clothes
ATTACH;FMTTYPE=image/png:https://mission-accomplished.org/wp-content/uploads/2023/12/1.png
END:VEVENT
BEGIN:VEVENT
DTSTART;TZID=UTC:20271025T090000
DTEND;TZID=UTC:20271025T120000
DTSTAMP:20260422T072633
CREATED:20240120T193046Z
LAST-MODIFIED:20240120T194806Z
UID:10005446-1824454800-1824465600@mission-accomplished.org
SUMMARY:Sunrise Homeless Navigation Center
DESCRIPTION:
URL:https://mission-accomplished.org/event/sunrise-homeless-navigation-center/2027-10-25/
LOCATION:Sunrise Homeless Navigation Center\, 4430 Menchaca Rd\, Austin\, 78745\, United States
CATEGORIES:Operation Clean Clothes
ATTACH;FMTTYPE=image/png:https://mission-accomplished.org/wp-content/uploads/2023/12/1.png
END:VEVENT
BEGIN:VEVENT
DTSTART;TZID=UTC:20271101T090000
DTEND;TZID=UTC:20271101T120000
DTSTAMP:20260422T072633
CREATED:20240120T193046Z
LAST-MODIFIED:20240120T194806Z
UID:10005447-1825059600-1825070400@mission-accomplished.org
SUMMARY:Sunrise Homeless Navigation Center
DESCRIPTION:
URL:https://mission-accomplished.org/event/sunrise-homeless-navigation-center/2027-11-01/
LOCATION:Sunrise Homeless Navigation Center\, 4430 Menchaca Rd\, Austin\, 78745\, United States
CATEGORIES:Operation Clean Clothes
ATTACH;FMTTYPE=image/png:https://mission-accomplished.org/wp-content/uploads/2023/12/1.png
END:VEVENT
END:VCALENDAR