BEGIN:VCALENDAR
VERSION:2.0
PRODID:-//Mission Accomplished - ECPv6.15.20//NONSGML v1.0//EN
CALSCALE:GREGORIAN
METHOD:PUBLISH
X-WR-CALNAME:Mission Accomplished
X-ORIGINAL-URL:https://mission-accomplished.org
X-WR-CALDESC:Events for Mission Accomplished
REFRESH-INTERVAL;VALUE=DURATION:PT1H
X-Robots-Tag:noindex
X-PUBLISHED-TTL:PT1H
BEGIN:VTIMEZONE
TZID:UTC
BEGIN:STANDARD
TZOFFSETFROM:+0000
TZOFFSETTO:+0000
TZNAME:UTC
DTSTART:20230101T000000
END:STANDARD
END:VTIMEZONE
BEGIN:VEVENT
DTSTART;TZID=UTC:20240206T090000
DTEND;TZID=UTC:20240206T120000
DTSTAMP:20260423T212739
CREATED:20240120T193349Z
LAST-MODIFIED:20240120T194733Z
UID:10005514-1707210000-1707220800@mission-accomplished.org
SUMMARY:Violet Keepsafe Storage
DESCRIPTION:
URL:https://mission-accomplished.org/event/violet-keepsafe-storage/2024-02-06/
LOCATION:Violet Keepsafe Storage\, 700 E 7th St\, Austin\, 78701\, United States
CATEGORIES:Operation Clean Clothes
ATTACH;FMTTYPE=image/png:https://mission-accomplished.org/wp-content/uploads/2023/12/2.png
END:VEVENT
BEGIN:VEVENT
DTSTART;TZID=UTC:20240130T090000
DTEND;TZID=UTC:20240130T120000
DTSTAMP:20260423T212739
CREATED:20240120T193349Z
LAST-MODIFIED:20240120T194733Z
UID:10005513-1706605200-1706616000@mission-accomplished.org
SUMMARY:Violet Keepsafe Storage
DESCRIPTION:
URL:https://mission-accomplished.org/event/violet-keepsafe-storage/2024-01-30/
LOCATION:Violet Keepsafe Storage\, 700 E 7th St\, Austin\, 78701\, United States
CATEGORIES:Operation Clean Clothes
ATTACH;FMTTYPE=image/png:https://mission-accomplished.org/wp-content/uploads/2023/12/2.png
END:VEVENT
BEGIN:VEVENT
DTSTART;TZID=UTC:20240123T090000
DTEND;TZID=UTC:20240123T120000
DTSTAMP:20260423T212739
CREATED:20240120T193349Z
LAST-MODIFIED:20240120T194733Z
UID:10005512-1706000400-1706011200@mission-accomplished.org
SUMMARY:Violet Keepsafe Storage
DESCRIPTION:
URL:https://mission-accomplished.org/event/violet-keepsafe-storage/2024-01-23/
LOCATION:Violet Keepsafe Storage\, 700 E 7th St\, Austin\, 78701\, United States
CATEGORIES:Operation Clean Clothes
ATTACH;FMTTYPE=image/png:https://mission-accomplished.org/wp-content/uploads/2023/12/2.png
END:VEVENT
END:VCALENDAR